BEGIN:VCALENDAR
VERSION:2.0
PRODID:-//CCEE - ECPv6.15.20//NONSGML v1.0//EN
CALSCALE:GREGORIAN
METHOD:PUBLISH
X-WR-CALNAME:CCEE
X-ORIGINAL-URL:https://ccee-ca.org
X-WR-CALDESC:Events for CCEE
REFRESH-INTERVAL;VALUE=DURATION:PT1H
X-Robots-Tag:noindex
X-PUBLISHED-TTL:PT1H
BEGIN:VTIMEZONE
TZID:PST
END:VTIMEZONE
BEGIN:VEVENT
DTSTART;TZID=PST:20240424T154500
DTEND;TZID=PST:20240424T170000
DTSTAMP:20260419T032733
CREATED:20230512T193440Z
LAST-MODIFIED:20230512T193440Z
UID:10006475-1713973500-1713978000@ccee-ca.org
SUMMARY:Ethnic Studies Community of Practice
DESCRIPTION:
URL:https://ccee-ca.org/event/ethnic-studies-community-of-practice-6/
END:VEVENT
END:VCALENDAR