BEGIN:VCALENDAR
VERSION:2.0
PRODID:-//CCEE - ECPv6.15.20//NONSGML v1.0//EN
CALSCALE:GREGORIAN
METHOD:PUBLISH
X-ORIGINAL-URL:https://ccee-ca.org
X-WR-CALDESC:Events for CCEE
REFRESH-INTERVAL;VALUE=DURATION:PT1H
X-Robots-Tag:noindex
X-PUBLISHED-TTL:PT1H
BEGIN:VTIMEZONE
TZID:America/Los_Angeles
BEGIN:DAYLIGHT
TZOFFSETFROM:-0800
TZOFFSETTO:-0700
TZNAME:PDT
DTSTART:20230312T100000
END:DAYLIGHT
BEGIN:STANDARD
TZOFFSETFROM:-0700
TZOFFSETTO:-0800
TZNAME:PST
DTSTART:20231105T090000
END:STANDARD
BEGIN:DAYLIGHT
TZOFFSETFROM:-0800
TZOFFSETTO:-0700
TZNAME:PDT
DTSTART:20240310T100000
END:DAYLIGHT
BEGIN:STANDARD
TZOFFSETFROM:-0700
TZOFFSETTO:-0800
TZNAME:PST
DTSTART:20241103T090000
END:STANDARD
BEGIN:DAYLIGHT
TZOFFSETFROM:-0800
TZOFFSETTO:-0700
TZNAME:PDT
DTSTART:20250309T100000
END:DAYLIGHT
BEGIN:STANDARD
TZOFFSETFROM:-0700
TZOFFSETTO:-0800
TZNAME:PST
DTSTART:20251102T090000
END:STANDARD
END:VTIMEZONE
BEGIN:VEVENT
DTSTART;TZID=America/Los_Angeles:20240516T080000
DTEND;TZID=America/Los_Angeles:20240516T160000
DTSTAMP:20260422T081413
CREATED:20240517T181832Z
LAST-MODIFIED:20240517T181832Z
UID:10005459-1715846400-1715875200@ccee-ca.org
SUMMARY:5.16.24 Contra Costa Lesson Design Workshop
DESCRIPTION:
URL:https://ccee-ca.org/event/5-16-24-contra-costa-lesson-design-workshop/
END:VEVENT
BEGIN:VEVENT
DTSTART;TZID=America/Los_Angeles:20240516T153000
DTEND;TZID=America/Los_Angeles:20240516T164500
DTSTAMP:20260422T081413
CREATED:20240404T202908Z
LAST-MODIFIED:20240404T202909Z
UID:10005426-1715873400-1715877900@ccee-ca.org
SUMMARY:Intensifying Interventions for Students
DESCRIPTION:Even with well-designed and carefully delivered reading interventions\, some students may need more. Please join us to hear about key considerations for adapting interventions for students with intensive needs. We’ll explore how addressing the alterable variables of instruction\, curriculum\, and environment can help accelerate student progress and improve outcomes for students who need more. This workshop will provide resources to help guide the process and time for Q&A. \nRegister: https://sdcoe.qualtrics.com/jfe/form/SV_bBBPSqbKvY1N4eq \nQuestions? Email rii@cccoe.k12.ca.us
URL:https://ccee-ca.org/event/intensifying-interventions-for-students/
CATEGORIES:Live Professional Learning Sessions
ATTACH;FMTTYPE=image/png:https://ccee-ca.org/wp-content/uploads/2024/04/National-center-for-Intensive-Intervention-Logo.png
END:VEVENT
END:VCALENDAR