BEGIN:VCALENDAR
VERSION:2.0
PRODID:-//CCEE - ECPv6.15.20//NONSGML v1.0//EN
CALSCALE:GREGORIAN
METHOD:PUBLISH
X-ORIGINAL-URL:https://ccee-ca.org
X-WR-CALDESC:Events for CCEE
REFRESH-INTERVAL;VALUE=DURATION:PT1H
X-Robots-Tag:noindex
X-PUBLISHED-TTL:PT1H
BEGIN:VTIMEZONE
TZID:America/Los_Angeles
BEGIN:DAYLIGHT
TZOFFSETFROM:-0800
TZOFFSETTO:-0700
TZNAME:PDT
DTSTART:20230312T100000
END:DAYLIGHT
BEGIN:STANDARD
TZOFFSETFROM:-0700
TZOFFSETTO:-0800
TZNAME:PST
DTSTART:20231105T090000
END:STANDARD
BEGIN:DAYLIGHT
TZOFFSETFROM:-0800
TZOFFSETTO:-0700
TZNAME:PDT
DTSTART:20240310T100000
END:DAYLIGHT
BEGIN:STANDARD
TZOFFSETFROM:-0700
TZOFFSETTO:-0800
TZNAME:PST
DTSTART:20241103T090000
END:STANDARD
BEGIN:DAYLIGHT
TZOFFSETFROM:-0800
TZOFFSETTO:-0700
TZNAME:PDT
DTSTART:20250309T100000
END:DAYLIGHT
BEGIN:STANDARD
TZOFFSETFROM:-0700
TZOFFSETTO:-0800
TZNAME:PST
DTSTART:20251102T090000
END:STANDARD
END:VTIMEZONE
BEGIN:VEVENT
DTSTART;TZID=America/Los_Angeles:20240604T090000
DTEND;TZID=America/Los_Angeles:20240606T143000
DTSTAMP:20260422T014728
CREATED:20240501T180734Z
LAST-MODIFIED:20240501T180734Z
UID:10005439-1717491600-1717684200@ccee-ca.org
SUMMARY:Strategies for Elementary Integrated and Designated ELD
DESCRIPTION:
URL:https://ccee-ca.org/event/strategies-for-elementary-integrated-and-designated-eld/
END:VEVENT
BEGIN:VEVENT
DTSTART;TZID=America/Los_Angeles:20240604T150000
DTEND;TZID=America/Los_Angeles:20240604T163000
DTSTAMP:20260422T014728
CREATED:20240501T180734Z
LAST-MODIFIED:20240501T180734Z
UID:10005437-1717513200-1717518600@ccee-ca.org
SUMMARY:HYBRID BOOK STUDY- Creating Equitable Early Learning Environments for Young Boys of Color*
DESCRIPTION:
URL:https://ccee-ca.org/event/hybrid-book-study-creating-equitable-early-learning-environments-for-young-boys-of-color-2/
END:VEVENT
END:VCALENDAR