BEGIN:VCALENDAR
VERSION:2.0
PRODID:-//CCEE - ECPv6.15.20//NONSGML v1.0//EN
CALSCALE:GREGORIAN
METHOD:PUBLISH
X-WR-CALNAME:CCEE
X-ORIGINAL-URL:https://ccee-ca.org
X-WR-CALDESC:Events for CCEE
REFRESH-INTERVAL;VALUE=DURATION:PT1H
X-Robots-Tag:noindex
X-PUBLISHED-TTL:PT1H
BEGIN:VTIMEZONE
TZID:America/Los_Angeles
BEGIN:DAYLIGHT
TZOFFSETFROM:-0800
TZOFFSETTO:-0700
TZNAME:PDT
DTSTART:20230312T100000
END:DAYLIGHT
BEGIN:STANDARD
TZOFFSETFROM:-0700
TZOFFSETTO:-0800
TZNAME:PST
DTSTART:20231105T090000
END:STANDARD
BEGIN:DAYLIGHT
TZOFFSETFROM:-0800
TZOFFSETTO:-0700
TZNAME:PDT
DTSTART:20240310T100000
END:DAYLIGHT
BEGIN:STANDARD
TZOFFSETFROM:-0700
TZOFFSETTO:-0800
TZNAME:PST
DTSTART:20241103T090000
END:STANDARD
BEGIN:DAYLIGHT
TZOFFSETFROM:-0800
TZOFFSETTO:-0700
TZNAME:PDT
DTSTART:20250309T100000
END:DAYLIGHT
BEGIN:STANDARD
TZOFFSETFROM:-0700
TZOFFSETTO:-0800
TZNAME:PST
DTSTART:20251102T090000
END:STANDARD
END:VTIMEZONE
BEGIN:VEVENT
DTSTART;TZID=America/Los_Angeles:20240826T000000
DTEND;TZID=America/Los_Angeles:20240826T151500
DTSTAMP:20260425T051926
CREATED:20240904T073000Z
LAST-MODIFIED:20240904T073000Z
UID:10006916-1724630400-1724685300@ccee-ca.org
SUMMARY:CEI: Business Check-in
DESCRIPTION:
URL:https://ccee-ca.org/event/cei-business-check-in/
ORGANIZER;CN="CEI":MAILTO:info@californiaengage.org
END:VEVENT
BEGIN:VEVENT
DTSTART;TZID=America/Los_Angeles:20240826T140000
DTEND;TZID=America/Los_Angeles:20240826T151500
DTSTAMP:20260425T051926
CREATED:20240904T173058Z
LAST-MODIFIED:20240904T173058Z
UID:10007075-1724680800-1724685300@ccee-ca.org
SUMMARY:CEI: Business Check-in
DESCRIPTION:
URL:https://ccee-ca.org/event/cei-business-check-in-5/
ORGANIZER;CN="CEI":MAILTO:info@californiaengage.org
END:VEVENT
BEGIN:VEVENT
DTSTART;TZID=America/Los_Angeles:20240826T153000
DTEND;TZID=America/Los_Angeles:20240826T163000
DTSTAMP:20260425T051926
CREATED:20240815T200603Z
LAST-MODIFIED:20240815T201103Z
UID:10006723-1724686200-1724689800@ccee-ca.org
SUMMARY:Leveraging  the UDL Guidelines 3.0 for Inclusive Learning in California Webinar
DESCRIPTION:Join us for an enlightening session as we delve into the transformative updates of the Universal Design for Learning (UDL) Guidelines 3.0\, tailored specifically to meet the evolving needs of educators and learners in California. This latest iteration of UDL Guidelines embodies a profound shift towards equity\, addressing entrenched biases and exclusionary practices in educational settings. \nExplore with us how these updated guidelines empower educators to create truly inclusive learning environments that honor and celebrate every learner’s unique strengths and challenges. Discover practical strategies and frameworks that harness the power of UDL 3.0 to foster engagement\, accessibility\, and academic success for all students\, including those with diverse learning needs. \nWhether you’re an educator\, administrator\, or advocate passionate about inclusive education\, this session will equip you with actionable insights to implement UDL 3.0 effectively. Join the conversation and be part of California’s journey towards educational equity and excellence. Together\, let’s transform our educational landscape to ensure that every learner thrives. \n Webinar Registration Link
URL:https://ccee-ca.org/event/leveraging-the-udl-guidelines-3-0-for-inclusive-learning-in-california-webinar/
CATEGORIES:Live Professional Learning Sessions
ATTACH;FMTTYPE=image/png:https://ccee-ca.org/wp-content/uploads/2024/08/UDL-GUIDELINES.png
END:VEVENT
END:VCALENDAR