BEGIN:VCALENDAR
VERSION:2.0
PRODID:-//CCEE - ECPv6.15.20//NONSGML v1.0//EN
CALSCALE:GREGORIAN
METHOD:PUBLISH
X-WR-CALNAME:CCEE
X-ORIGINAL-URL:https://ccee-ca.org
X-WR-CALDESC:Events for CCEE
REFRESH-INTERVAL;VALUE=DURATION:PT1H
X-Robots-Tag:noindex
X-PUBLISHED-TTL:PT1H
BEGIN:VTIMEZONE
TZID:America/Los_Angeles
BEGIN:DAYLIGHT
TZOFFSETFROM:-0800
TZOFFSETTO:-0700
TZNAME:PDT
DTSTART:20230312T100000
END:DAYLIGHT
BEGIN:STANDARD
TZOFFSETFROM:-0700
TZOFFSETTO:-0800
TZNAME:PST
DTSTART:20231105T090000
END:STANDARD
BEGIN:DAYLIGHT
TZOFFSETFROM:-0800
TZOFFSETTO:-0700
TZNAME:PDT
DTSTART:20240310T100000
END:DAYLIGHT
BEGIN:STANDARD
TZOFFSETFROM:-0700
TZOFFSETTO:-0800
TZNAME:PST
DTSTART:20241103T090000
END:STANDARD
BEGIN:DAYLIGHT
TZOFFSETFROM:-0800
TZOFFSETTO:-0700
TZNAME:PDT
DTSTART:20250309T100000
END:DAYLIGHT
BEGIN:STANDARD
TZOFFSETFROM:-0700
TZOFFSETTO:-0800
TZNAME:PST
DTSTART:20251102T090000
END:STANDARD
END:VTIMEZONE
BEGIN:VEVENT
DTSTART;TZID=America/Los_Angeles:20240827T081500
DTEND;TZID=America/Los_Angeles:20240827T123000
DTSTAMP:20260425T052036
CREATED:20240828T071127Z
LAST-MODIFIED:20240828T071127Z
UID:10006786-1724746500-1724761800@ccee-ca.org
SUMMARY:MEGA Network Meeting #1
DESCRIPTION:SDCOE MEGA Team will be hosting quarterly network meetings to share latest information from local and state leaders regarding English Learner / Multilingual Learner students\, dual language and world language.The meetings will be in person. Please see location for more information.
URL:https://ccee-ca.org/event/mega-network-meeting-1/
END:VEVENT
BEGIN:VEVENT
DTSTART;TZID=America/Los_Angeles:20240827T130000
DTEND;TZID=America/Los_Angeles:20240827T141500
DTSTAMP:20260425T052036
CREATED:20240828T070654Z
LAST-MODIFIED:20240828T070654Z
UID:10006779-1724763600-1724768100@ccee-ca.org
SUMMARY:Data and Assessment Meetings 2024-25
DESCRIPTION:Data and Assessment Network meetings are held regularly throughout the year for administrators who are responsible for assessment\, accountability\, and data management. The meetings provide a forum for participants to explore and exchange ideas and share locally created resources. The Data and Assessment Network meetings offer opportunities for LEA staff to network with colleagues\, ask questions and get answers to questions about assessment\, accountability\, data\, and more.
URL:https://ccee-ca.org/event/data-and-assessment-meetings-2024-25/
END:VEVENT
BEGIN:VEVENT
DTSTART;TZID=America/Los_Angeles:20240827T160000
DTEND;TZID=America/Los_Angeles:20240827T180000
DTSTAMP:20260425T052036
CREATED:20240828T070654Z
LAST-MODIFIED:20240828T070654Z
UID:10006778-1724774400-1724781600@ccee-ca.org
SUMMARY:Bookends of Behavior: Antecedent-Based Interventions & Reinforcement
DESCRIPTION:Would you like to learn how you can decrease problematic behaviors while increasing behaviors you want to see? What we do before and after a challenging behavior is instrumental in effecting behavior change. This workshop will provide you with both proactive antecedent strategies to prevent challenging behaviors\, as well as reinforcement strategies to strengthen and maintain desired behaviors.
URL:https://ccee-ca.org/event/bookends-of-behavior-antecedent-based-interventions-reinforcement/
END:VEVENT
END:VCALENDAR