BEGIN:VCALENDAR
VERSION:2.0
PRODID:-//CCEE - ECPv6.15.20//NONSGML v1.0//EN
CALSCALE:GREGORIAN
METHOD:PUBLISH
X-ORIGINAL-URL:https://ccee-ca.org
X-WR-CALDESC:Events for CCEE
REFRESH-INTERVAL;VALUE=DURATION:PT1H
X-Robots-Tag:noindex
X-PUBLISHED-TTL:PT1H
BEGIN:VTIMEZONE
TZID:America/Los_Angeles
BEGIN:DAYLIGHT
TZOFFSETFROM:-0800
TZOFFSETTO:-0700
TZNAME:PDT
DTSTART:20230312T100000
END:DAYLIGHT
BEGIN:STANDARD
TZOFFSETFROM:-0700
TZOFFSETTO:-0800
TZNAME:PST
DTSTART:20231105T090000
END:STANDARD
BEGIN:DAYLIGHT
TZOFFSETFROM:-0800
TZOFFSETTO:-0700
TZNAME:PDT
DTSTART:20240310T100000
END:DAYLIGHT
BEGIN:STANDARD
TZOFFSETFROM:-0700
TZOFFSETTO:-0800
TZNAME:PST
DTSTART:20241103T090000
END:STANDARD
BEGIN:DAYLIGHT
TZOFFSETFROM:-0800
TZOFFSETTO:-0700
TZNAME:PDT
DTSTART:20250309T100000
END:DAYLIGHT
BEGIN:STANDARD
TZOFFSETFROM:-0700
TZOFFSETTO:-0800
TZNAME:PST
DTSTART:20251102T090000
END:STANDARD
END:VTIMEZONE
BEGIN:VEVENT
DTSTART;TZID=America/Los_Angeles:20241016T090000
DTEND;TZID=America/Los_Angeles:20241016T103000
DTSTAMP:20260421T044122
CREATED:20240904T173106Z
LAST-MODIFIED:20240904T173106Z
UID:10007152-1729069200-1729074600@ccee-ca.org
SUMMARY:CEI: Peer Leading & Learning Network Planning Meeting
DESCRIPTION:
URL:https://ccee-ca.org/event/cei-peer-leading-learning-network-planning-meeting-8/
ORGANIZER;CN="CEI":MAILTO:info@californiaengage.org
END:VEVENT
BEGIN:VEVENT
DTSTART;TZID=America/Los_Angeles:20241016T090000
DTEND;TZID=America/Los_Angeles:20241016T110000
DTSTAMP:20260421T044122
CREATED:20240828T071227Z
LAST-MODIFIED:20240828T071227Z
UID:10006793-1729069200-1729076400@ccee-ca.org
SUMMARY:SC R-TAC Community Schools Onboarding 102
DESCRIPTION:Are you new to the California Community Schools Partnership Program (CCSPP)? Join the Southern Coast Regional Technical Assistance Center (SC R-TAC) for a CCSPP onboarding learning series designed exclusively for new community school leaders like yourself!
URL:https://ccee-ca.org/event/sc-r-tac-community-schools-onboarding-102/
END:VEVENT
BEGIN:VEVENT
DTSTART;TZID=America/Los_Angeles:20241016T110000
DTEND;TZID=America/Los_Angeles:20241016T120000
DTSTAMP:20260421T044122
CREATED:20240904T173112Z
LAST-MODIFIED:20240904T173112Z
UID:10007187-1729076400-1729080000@ccee-ca.org
SUMMARY:CEI: Peer Leading & Learning Exchange (PLLX) Office Hours
DESCRIPTION:
URL:https://ccee-ca.org/event/cei-peer-leading-learning-exchange-pllx-office-hours-8/
ORGANIZER;CN="CEI":MAILTO:info@californiaengage.org
END:VEVENT
BEGIN:VEVENT
DTSTART;TZID=America/Los_Angeles:20241016T133000
DTEND;TZID=America/Los_Angeles:20241016T144500
DTSTAMP:20260421T044122
CREATED:20240911T005708Z
LAST-MODIFIED:20240911T005708Z
UID:10007216-1729085400-1729089900@ccee-ca.org
SUMMARY:From Pilot to Practice: A Case Study of a District’s Journey to Implement Formative Assessment Practices to Improve Student Outcomes in Math
DESCRIPTION:Join the California Collaborative for Educational Excellence (CCEE) as they showcase their Data Research Learning Network\, which empowers districts and counties across California to innovate their data and assessment practices. In this session\, Rincon Valley USD will highlight their bottom-up approach to rebalancing their local assessment system. By leveraging formative assessments and math learning progressions\, they’ve created a dynamic process to better inform teaching and improve student outcomes. \nParticipants will walk away with a valuable starter toolkit\, including a walkthrough protocol\, reflection and action planning templates\, sample teacher and learner surveys\, and data chat protocols for effective data meetings. Additionally\, attendees will gain access to CCEE’s Assessment System Review Learning Path and Tool to further support their assessment system improvements. \nDon’t miss this opportunity to gather practical tools and insights to innovate and enhance your district’s data and assessment practices!
URL:https://ccee-ca.org/event/from-pilot-to-practice-a-case-study-of-a-districts-journey-to-implement-formative-assessment-practices-to-improve-student-outcomes-in-math/
CATEGORIES:CCEE,Conference Presentation
ATTACH;FMTTYPE=image/jpeg:https://ccee-ca.org/wp-content/uploads/2024/09/CAC-From-Pilot-to-Practice-A-Case-Study-of-a-Districts-Journey-to-Implement-Formative-Assessment-Practices-to-Improve-Student-Outcomes-in-Math.jpg
END:VEVENT
BEGIN:VEVENT
DTSTART;TZID=America/Los_Angeles:20241016T133000
DTEND;TZID=America/Los_Angeles:20241016T144500
DTSTAMP:20260421T044122
CREATED:20240911T005917Z
LAST-MODIFIED:20240911T010341Z
UID:10007217-1729085400-1729089900@ccee-ca.org
SUMMARY:Uplifting Educators to Accelerate Learning: How a Small District is Developing a Culture of Research\, Collaboration\, and Assessment for Student Outcomes
DESCRIPTION:How can districts foster a culture of continuous improvement that accelerates student learning? In this session\, Taft City School District shares their approach\, which integrates research\, collaboration\, and assessment to uplift teacher practices and drive student success. By gathering authentic voices from both teachers and students\, providing data-driven professional development\, and pilot testing interventions\, the district is committed to improving instructional outcomes. \nOver the past two years\, Taft City has engaged in an action research initiative focused on improving ELA performance on state and local assessments. This session will present statistical findings\, lessons learned\, and provide district leaders and classroom teachers with practical strategies to enhance their own continuous improvement efforts. \nJoin us at the California Assessment Conference to gain valuable insights and actionable steps for fostering a culture of continuous improvement in your district!
URL:https://ccee-ca.org/event/uplifting-educators-to-accelerate-learning-how-a-small-district-is-developing-a-culture-of-research-collaboration-and-assessment-for-student-outcomes/
CATEGORIES:CCEE,Conference Presentation
ATTACH;FMTTYPE=image/png:https://ccee-ca.org/wp-content/uploads/2024/09/Uplifting-Educators-to-Accelerate-Learning-How-a-Small-District-is-Developing-a-Culture-of-Research-Collaboration-and-Assessment-for-Student-Outcomes.png
END:VEVENT
BEGIN:VEVENT
DTSTART;TZID=America/Los_Angeles:20241016T150000
DTEND;TZID=America/Los_Angeles:20241016T160000
DTSTAMP:20260421T044122
CREATED:20240815T193320Z
LAST-MODIFIED:20240906T002436Z
UID:10006715-1729090800-1729094400@ccee-ca.org
SUMMARY:Inclusive Learning Circles - Fostering Synergy Between UDL\, AT\, & AAC - Session 2
DESCRIPTION:Fostering Synergy Between UDL\, AT\, & AAC \nAudience: Open to all educators to expand knowledge and share best practices. \nSessions:\n\n\n\n9/18/2024 – 3:00 PM – 4:00 PM\n\n\n10/16/2024 – 3:00 PM – 4:00 PM\n\n\n11/20/2024 – 3:00 PM – 4:00 PM\n\n\n12/18/2024 – 3:00 PM – 4:00 PM\n\n\n1/22/2025 – 3:00 PM – 4:00 PM\n\n\n2/19/2025 – 3:00 PM – 4:00 PM\n\n\n3/19/2025 – 3:00 PM – 4:00 PM\n\n\n4/23/2025 – 3:00 PM – 4:00 PM\n\n\n5/21/2025 – 3:00 PM – 4:00 PM\n\n\nClick here for flyer.
URL:https://ccee-ca.org/event/inclusive-learning-circles-fostering-synergy-between-udl-at-aac-2/
CATEGORIES:Live Professional Learning Sessions
ATTACH;FMTTYPE=image/jpeg:https://ccee-ca.org/wp-content/uploads/2024/08/OPEN-ACCESS.jpeg
END:VEVENT
BEGIN:VEVENT
DTSTART;TZID=America/Los_Angeles:20241016T160000
DTEND;TZID=America/Los_Angeles:20241016T173000
DTSTAMP:20260421T044122
CREATED:20240828T071714Z
LAST-MODIFIED:20240828T071714Z
UID:10006829-1729094400-1729099800@ccee-ca.org
SUMMARY:NCCSE Parent Academy
DESCRIPTION:The North Coastal Consortium for Special Education (NCCSE) Special Education Local Plan Area (SELPA) acknowledges the vital role of involving parents and educators in supporting students’ educational journeys. Helping parents understand the IEP\, their role\, and the importance of communication and teamwork is key to fostering engagement.
URL:https://ccee-ca.org/event/nccse-parent-academy-6/
END:VEVENT
END:VCALENDAR