BEGIN:VCALENDAR
VERSION:2.0
PRODID:-//CCEE - ECPv6.15.20//NONSGML v1.0//EN
CALSCALE:GREGORIAN
METHOD:PUBLISH
X-WR-CALNAME:CCEE
X-ORIGINAL-URL:https://ccee-ca.org
X-WR-CALDESC:Events for CCEE
REFRESH-INTERVAL;VALUE=DURATION:PT1H
X-Robots-Tag:noindex
X-PUBLISHED-TTL:PT1H
BEGIN:VTIMEZONE
TZID:America/Los_Angeles
BEGIN:DAYLIGHT
TZOFFSETFROM:-0800
TZOFFSETTO:-0700
TZNAME:PDT
DTSTART:20230312T100000
END:DAYLIGHT
BEGIN:STANDARD
TZOFFSETFROM:-0700
TZOFFSETTO:-0800
TZNAME:PST
DTSTART:20231105T090000
END:STANDARD
BEGIN:DAYLIGHT
TZOFFSETFROM:-0800
TZOFFSETTO:-0700
TZNAME:PDT
DTSTART:20240310T100000
END:DAYLIGHT
BEGIN:STANDARD
TZOFFSETFROM:-0700
TZOFFSETTO:-0800
TZNAME:PST
DTSTART:20241103T090000
END:STANDARD
BEGIN:DAYLIGHT
TZOFFSETFROM:-0800
TZOFFSETTO:-0700
TZNAME:PDT
DTSTART:20250309T100000
END:DAYLIGHT
BEGIN:STANDARD
TZOFFSETFROM:-0700
TZOFFSETTO:-0800
TZNAME:PST
DTSTART:20251102T090000
END:STANDARD
END:VTIMEZONE
BEGIN:VEVENT
DTSTART;TZID=America/Los_Angeles:20241205T073000
DTEND;TZID=America/Los_Angeles:20241205T170000
DTSTAMP:20260422T014452
CREATED:20240904T173104Z
LAST-MODIFIED:20240904T173104Z
UID:10007127-1733383800-1733418000@ccee-ca.org
SUMMARY:CEI: Cohort V In-person Peer Leading & Learning Network
DESCRIPTION:
URL:https://ccee-ca.org/event/cei-cohort-v-in-person-peer-leading-learning-network-2/
ORGANIZER;CN="CEI":MAILTO:info@californiaengage.org
END:VEVENT
BEGIN:VEVENT
DTSTART;TZID=America/Los_Angeles:20241205T154500
DTEND;TZID=America/Los_Angeles:20241205T164500
DTSTAMP:20260422T014452
CREATED:20240708T185345Z
LAST-MODIFIED:20240708T185345Z
UID:10005487-1733413500-1733417100@ccee-ca.org
SUMMARY:Utilizing Learning Progressions to Accelerate Student Learning
DESCRIPTION:Learning Intention: \nParticipants will explore and engage in resources around the Learning Acceleration Design process to support clarity of learning intentions that bridge current content knowledge with grade level content. \nTo learn more and register for the event\, visit the CCLA website: CCLA Events.
URL:https://ccee-ca.org/event/utilizing-learning-progressions-to-accelerate-student-learning/
CATEGORIES:Live Professional Learning Sessions
ATTACH;FMTTYPE=image/png:https://ccee-ca.org/wp-content/uploads/2024/07/Untitled-2024-07-08T113145.593.png
END:VEVENT
END:VCALENDAR