BEGIN:VCALENDAR
VERSION:2.0
PRODID:-//CCEE - ECPv6.15.20//NONSGML v1.0//EN
CALSCALE:GREGORIAN
METHOD:PUBLISH
X-ORIGINAL-URL:https://ccee-ca.org
X-WR-CALDESC:Events for CCEE
REFRESH-INTERVAL;VALUE=DURATION:PT1H
X-Robots-Tag:noindex
X-PUBLISHED-TTL:PT1H
BEGIN:VTIMEZONE
TZID:America/Los_Angeles
BEGIN:DAYLIGHT
TZOFFSETFROM:-0800
TZOFFSETTO:-0700
TZNAME:PDT
DTSTART:20230312T100000
END:DAYLIGHT
BEGIN:STANDARD
TZOFFSETFROM:-0700
TZOFFSETTO:-0800
TZNAME:PST
DTSTART:20231105T090000
END:STANDARD
BEGIN:DAYLIGHT
TZOFFSETFROM:-0800
TZOFFSETTO:-0700
TZNAME:PDT
DTSTART:20240310T100000
END:DAYLIGHT
BEGIN:STANDARD
TZOFFSETFROM:-0700
TZOFFSETTO:-0800
TZNAME:PST
DTSTART:20241103T090000
END:STANDARD
BEGIN:DAYLIGHT
TZOFFSETFROM:-0800
TZOFFSETTO:-0700
TZNAME:PDT
DTSTART:20250309T100000
END:DAYLIGHT
BEGIN:STANDARD
TZOFFSETFROM:-0700
TZOFFSETTO:-0800
TZNAME:PST
DTSTART:20251102T090000
END:STANDARD
END:VTIMEZONE
BEGIN:VEVENT
DTSTART;TZID=America/Los_Angeles:20241210T080000
DTEND;TZID=America/Los_Angeles:20241210T150000
DTSTAMP:20260420T082026
CREATED:20240828T065951Z
LAST-MODIFIED:20240828T065951Z
UID:10006747-1733817600-1733842800@ccee-ca.org
SUMMARY:Culturally Sustaining ELD Collaborative
DESCRIPTION:Utilizing an asset-based approach\, this English language development (ELD) collaborative integrates school and community members in local teams to co-design and implement a comprehensive approach to ELD (including integrated and designated ELD) that is culturally sustaining\, aligned to content\, and responsive to secondary students’ literacy and language learning needs.
URL:https://ccee-ca.org/event/culturally-sustaining-eld-collaborative-5/
END:VEVENT
BEGIN:VEVENT
DTSTART;TZID=America/Los_Angeles:20241210T083000
DTEND;TZID=America/Los_Angeles:20241210T153000
DTSTAMP:20260420T082026
CREATED:20241014T234759Z
LAST-MODIFIED:20241014T234759Z
UID:10007275-1733819400-1733844600@ccee-ca.org
SUMMARY:LEADING SYSTEMS FOR SUSTAINED SYSTEMIC IMPROVEMENT - Session 2
DESCRIPTION:The Bay Area Geographic Leads Consortium (BAGLC)\, in partnership with WestEd\, offers this session designed for organizational leaders who are seeking to turn small-scale improvement efforts into lasting\, impactful results. In this hands-on introductory workshop\, participants will explore how system design principles can accelerate and sustain meaningful change. Through an engaging Lego simulation\, participants will learn how to align small\, front-line changes to drive significant\, system-wide improvements. This fun and insightful activity draws on a century of proven quality improvement practices from outside the education sector\, offering valuable insights into overcoming the complex challenges school and district leaders face today. \nObjectives \n\nLeaders will be introduced to principles\, methods\, and tools to (re)design three interconnected systems (work\, improvement\, management) to meet every student’s needs.\nLeaders will experience the power of aligning everyone’s efforts toward common goals while using a shared approach to improving their system as a whole.\nLeaders will learn approaches and tools to recognize and solve the systemic roots of pervasive problems of practice\nLeaders will reflect on the importance of establishing the organizational culture required for system transformation\, including: respect for every individual\, leading with humility and curiosity\, applying servant leadership\, and developing staff to see and solve problems they experience.
URL:https://ccee-ca.org/event/leading-systems-for-sustained-systemic-improvement-session-2/
CATEGORIES:Live Professional Learning Sessions
ATTACH;FMTTYPE=image/png:https://ccee-ca.org/wp-content/uploads/2024/10/LEADING-SYSTEMS-FOR-SUSTAINED-SYSTEMIC-IMPROVEMENT.png
END:VEVENT
BEGIN:VEVENT
DTSTART;TZID=America/Los_Angeles:20241210T100000
DTEND;TZID=America/Los_Angeles:20241210T120000
DTSTAMP:20260420T082026
CREATED:20240828T071619Z
LAST-MODIFIED:20240828T071619Z
UID:10006810-1733824800-1733832000@ccee-ca.org
SUMMARY:2024-2025 C&I Leaders Network
DESCRIPTION:Learn and network with educators from across San Diego County at our regularly scheduled meetings for lead District Curriculum and Instruction Administrators.
URL:https://ccee-ca.org/event/2024-2025-ci-leaders-network-3/
END:VEVENT
END:VCALENDAR