BEGIN:VCALENDAR
VERSION:2.0
PRODID:-//CCEE - ECPv6.15.20//NONSGML v1.0//EN
CALSCALE:GREGORIAN
METHOD:PUBLISH
X-WR-CALNAME:CCEE
X-ORIGINAL-URL:https://ccee-ca.org
X-WR-CALDESC:Events for CCEE
REFRESH-INTERVAL;VALUE=DURATION:PT1H
X-Robots-Tag:noindex
X-PUBLISHED-TTL:PT1H
BEGIN:VTIMEZONE
TZID:America/Los_Angeles
BEGIN:DAYLIGHT
TZOFFSETFROM:-0800
TZOFFSETTO:-0700
TZNAME:PDT
DTSTART:20240310T100000
END:DAYLIGHT
BEGIN:STANDARD
TZOFFSETFROM:-0700
TZOFFSETTO:-0800
TZNAME:PST
DTSTART:20241103T090000
END:STANDARD
BEGIN:DAYLIGHT
TZOFFSETFROM:-0800
TZOFFSETTO:-0700
TZNAME:PDT
DTSTART:20250309T100000
END:DAYLIGHT
BEGIN:STANDARD
TZOFFSETFROM:-0700
TZOFFSETTO:-0800
TZNAME:PST
DTSTART:20251102T090000
END:STANDARD
BEGIN:DAYLIGHT
TZOFFSETFROM:-0800
TZOFFSETTO:-0700
TZNAME:PDT
DTSTART:20260308T100000
END:DAYLIGHT
BEGIN:STANDARD
TZOFFSETFROM:-0700
TZOFFSETTO:-0800
TZNAME:PST
DTSTART:20261101T090000
END:STANDARD
END:VTIMEZONE
BEGIN:VEVENT
DTSTART;VALUE=DATE:20251113
DTEND;VALUE=DATE:20251116
DTSTAMP:20260421T115202
CREATED:20250923T160519Z
LAST-MODIFIED:20250923T160519Z
UID:10007457-1762992000-1763251199@ccee-ca.org
SUMMARY:25-26 Street Data CoP Launch - Both cohorts (in-person)
DESCRIPTION:
URL:https://ccee-ca.org/event/__trashed-147/
CATEGORIES:Network Convening
ORGANIZER;CN="CEI":MAILTO:info@californiaengage.org
END:VEVENT
BEGIN:VEVENT
DTSTART;TZID=America/Los_Angeles:20251113T090000
DTEND;TZID=America/Los_Angeles:20251113T150000
DTSTAMP:20260421T115202
CREATED:20250912T204412Z
LAST-MODIFIED:20250912T204413Z
UID:10007433-1763024400-1763046000@ccee-ca.org
SUMMARY:Empowering Readers: Tools and Strategies to Support Reading Success Interactive Learning Series
DESCRIPTION:Join us for no-cost interactive\, hands-on learning! \nUnlock the power of technology to support all readers! Explore key tools\, practical strategies\, and evidence-based approaches to enhance access\, comprehension\, and engagement in your classroom. \nIn Person Registration link
URL:https://ccee-ca.org/event/empowering-readers-tools-and-strategies-to-support-reading-success-interactive-learning-series-3/
CATEGORIES:Live Professional Learning Sessions
ATTACH;FMTTYPE=image/png:https://ccee-ca.org/wp-content/uploads/2025/09/Screenshot-2025-09-12-124846.png
END:VEVENT
BEGIN:VEVENT
DTSTART;TZID=America/Los_Angeles:20251113T110000
DTEND;TZID=America/Los_Angeles:20251113T120000
DTSTAMP:20260421T115202
CREATED:20251026T204530Z
LAST-MODIFIED:20251026T204532Z
UID:10007544-1763031600-1763035200@ccee-ca.org
SUMMARY:Leading CTE Systems: Designing Pathways for All (Professional Learning Network)
DESCRIPTION:Leading CTE Systems: Designing Pathways for All Learners is a hybrid professional learning network for administrators and systems leaders committed to expanding access to high-quality CTE pathways. Meeting monthly in person or virtually\, participants will collaborate to identify barriers\, share resources\, and apply systems-level strategies to universally design career pathways aligned with workforce needs. This network offers a space to deepen learning\, exchange ideas\, and support the design of student-centered\, future-ready programs. \nRegistration link \nFlyer
URL:https://ccee-ca.org/event/leading-cte-systems-designing-pathways-for-all-professional-learning-network-4/
CATEGORIES:Live Professional Learning Sessions
END:VEVENT
BEGIN:VEVENT
DTSTART;TZID=America/Los_Angeles:20251113T130000
DTEND;TZID=America/Los_Angeles:20251113T160000
DTSTAMP:20260421T115202
CREATED:20250912T230932Z
LAST-MODIFIED:20250912T230933Z
UID:10007440-1763038800-1763049600@ccee-ca.org
SUMMARY:AAC Foundations (Virtual)
DESCRIPTION:Audience: Open to all educators to expand knowledge in Augmentative Alternative\nCommunication \nLocation: Zoom \n12 hours of Continuing Education: This course meets the qualifications for continuing\nprofessional development for Speech-Language Pathologists as required by the\nCalifornia Speech-Language Pathology & Audiology Licensing Board\, PDP #338 \nClick here to access flyer \nRegistration link.
URL:https://ccee-ca.org/event/aac-foundations-virtual-3/
CATEGORIES:Live Professional Learning Sessions
ATTACH;FMTTYPE=image/png:https://ccee-ca.org/wp-content/uploads/2025/09/Screenshot-2025-09-12-144513.png
END:VEVENT
END:VCALENDAR