BEGIN:VCALENDAR
VERSION:2.0
PRODID:-//CCEE - ECPv6.15.20//NONSGML v1.0//EN
CALSCALE:GREGORIAN
METHOD:PUBLISH
X-WR-CALNAME:CCEE
X-ORIGINAL-URL:https://ccee-ca.org
X-WR-CALDESC:Events for CCEE
REFRESH-INTERVAL;VALUE=DURATION:PT1H
X-Robots-Tag:noindex
X-PUBLISHED-TTL:PT1H
BEGIN:VTIMEZONE
TZID:America/Los_Angeles
BEGIN:DAYLIGHT
TZOFFSETFROM:-0800
TZOFFSETTO:-0700
TZNAME:PDT
DTSTART:20250309T100000
END:DAYLIGHT
BEGIN:STANDARD
TZOFFSETFROM:-0700
TZOFFSETTO:-0800
TZNAME:PST
DTSTART:20251102T090000
END:STANDARD
BEGIN:DAYLIGHT
TZOFFSETFROM:-0800
TZOFFSETTO:-0700
TZNAME:PDT
DTSTART:20260308T100000
END:DAYLIGHT
BEGIN:STANDARD
TZOFFSETFROM:-0700
TZOFFSETTO:-0800
TZNAME:PST
DTSTART:20261101T090000
END:STANDARD
BEGIN:DAYLIGHT
TZOFFSETFROM:-0800
TZOFFSETTO:-0700
TZNAME:PDT
DTSTART:20270314T100000
END:DAYLIGHT
BEGIN:STANDARD
TZOFFSETFROM:-0700
TZOFFSETTO:-0800
TZNAME:PST
DTSTART:20271107T090000
END:STANDARD
END:VTIMEZONE
BEGIN:VEVENT
DTSTART;VALUE=DATE:20260501
DTEND;VALUE=DATE:20260701
DTSTAMP:20260422T033432
CREATED:20251103T005602Z
LAST-MODIFIED:20251103T005602Z
UID:10007644-1777593600-1782863999@ccee-ca.org
SUMMARY:Asynchronous Courses on UDL\, AT\, and AAC - Spring Access Window
DESCRIPTION:SPRING ACCESS PERIOD: May 1-June 30\, 2026 (Enrollment closes on June 1) \nRegistration link \nFlyer
URL:https://ccee-ca.org/event/asynchronous-courses-on-udl-at-and-aac-spring-access-window/
CATEGORIES:Live Professional Learning Sessions
ATTACH;FMTTYPE=image/png:https://ccee-ca.org/wp-content/uploads/2025/11/Screenshot-2025-11-02-165128.png
END:VEVENT
BEGIN:VEVENT
DTSTART;TZID=America/Los_Angeles:20260504T080000
DTEND;TZID=America/Los_Angeles:20260504T120000
DTSTAMP:20260422T033432
CREATED:20260324T200023Z
LAST-MODIFIED:20260324T200023Z
UID:10007708-1777881600-1777896000@ccee-ca.org
SUMMARY:Start Here Institute: San Bernardino
DESCRIPTION:In-person 2-day professional learning series for Teacher Leaders (Professional Learning Providers\, Coaches\, TOSAs\, etc.) working with ECE professionals who serve children from birth to 3rd grade.\nJoin us for an interactive learning experience at the San Bernardino County Superintendent of Schools\, 8265 Aspen Ave. \, Rancho Cucamonga\, California 91730\, where we’ll explore ways to make math\, science\, and computer science more engaging\, connected\, and accessible for every learner. You’ll collaborate with fellow teacher leaders\, discover classroom-ready strategies and activities\, and leave with renewed energy and practical tools to bring joyful learning to your students. \nRegistration link
URL:https://ccee-ca.org/event/start-here-institute-san-bernardino/
CATEGORIES:Live Professional Learning Sessions
END:VEVENT
BEGIN:VEVENT
DTSTART;TZID=America/Los_Angeles:20260504T080000
DTEND;TZID=America/Los_Angeles:20260505T120000
DTSTAMP:20260422T033432
CREATED:20260122T184236Z
LAST-MODIFIED:20260122T184236Z
UID:10007665-1777881600-1777982400@ccee-ca.org
SUMMARY:FREE TWO-DAY PROFESSIONAL LEARNING SERIES
DESCRIPTION:Join us for an interactive\, engaging and collaborative event designed to: \n\nStrengthen your approach to math\, science and computer science\nConnect learning with CA Math Standard sand CA Foundations\nEmpower educators and families with joyful\, hands-on strategies\n\nWalk away with practical strategies\, classroom-ready activities and a renewed passion for teaching math and science. \nRegister here: https://events.zoom.us/ev/AjQFqhDqq9IFkcAReX4b2y6IWEX2wfNHcvj0Du95ERDhNFgMeKT~AiBhVrCAPeMlLOCzXGMdCHrtx6Uk5PSkDYJqy3G733hfRU_GJI2V-O1Syw \nRegistration questions contact: Sandra Valenton  SValenton@fcoe.org\nContent questions contact: Jon Dueck  JDueck@fcoe.org
URL:https://ccee-ca.org/event/free-two-day-professional-learning-series-4/
CATEGORIES:Live Professional Learning Sessions
ATTACH;FMTTYPE=image/png:https://ccee-ca.org/wp-content/uploads/2026/01/Count-Play-Explore-1.png
END:VEVENT
BEGIN:VEVENT
DTSTART;TZID=America/Los_Angeles:20260504T130000
DTEND;TZID=America/Los_Angeles:20260504T140000
DTSTAMP:20260422T033432
CREATED:20250923T160524Z
LAST-MODIFIED:20250923T160524Z
UID:10007469-1777899600-1777903200@ccee-ca.org
SUMMARY:CEI 2.0: Lead Agency Check-in
DESCRIPTION:
URL:https://ccee-ca.org/event/__trashed-191/
ORGANIZER;CN="CEI":MAILTO:info@californiaengage.org
END:VEVENT
END:VCALENDAR