BEGIN:VCALENDAR
VERSION:2.0
PRODID:-//CCEE - ECPv6.15.20//NONSGML v1.0//EN
CALSCALE:GREGORIAN
METHOD:PUBLISH
X-ORIGINAL-URL:https://ccee-ca.org
X-WR-CALDESC:Events for CCEE
REFRESH-INTERVAL;VALUE=DURATION:PT1H
X-Robots-Tag:noindex
X-PUBLISHED-TTL:PT1H
BEGIN:VTIMEZONE
TZID:America/Los_Angeles
BEGIN:DAYLIGHT
TZOFFSETFROM:-0800
TZOFFSETTO:-0700
TZNAME:PDT
DTSTART:20230312T100000
END:DAYLIGHT
BEGIN:STANDARD
TZOFFSETFROM:-0700
TZOFFSETTO:-0800
TZNAME:PST
DTSTART:20231105T090000
END:STANDARD
BEGIN:DAYLIGHT
TZOFFSETFROM:-0800
TZOFFSETTO:-0700
TZNAME:PDT
DTSTART:20240310T100000
END:DAYLIGHT
BEGIN:STANDARD
TZOFFSETFROM:-0700
TZOFFSETTO:-0800
TZNAME:PST
DTSTART:20241103T090000
END:STANDARD
BEGIN:DAYLIGHT
TZOFFSETFROM:-0800
TZOFFSETTO:-0700
TZNAME:PDT
DTSTART:20250309T100000
END:DAYLIGHT
BEGIN:STANDARD
TZOFFSETFROM:-0700
TZOFFSETTO:-0800
TZNAME:PST
DTSTART:20251102T090000
END:STANDARD
END:VTIMEZONE
BEGIN:VEVENT
DTSTART;TZID=America/Los_Angeles:20240409T150000
DTEND;TZID=America/Los_Angeles:20240409T160000
DTSTAMP:20260421T062424
CREATED:20240313T211341Z
LAST-MODIFIED:20240313T211438Z
UID:10005420-1712674800-1712678400@ccee-ca.org
SUMMARY:Empowering Educators - The Local Assessment Project
DESCRIPTION:Join us for an Open Door session with the San Bernardino County Office of Education (SBCSS) to dive into their journey as they tackled the critical challenge of improving student progress tracking in reading and math. Discover how they identified the gaps in their local assessment data and how they initiated the Local Assessment Project to fill this void. In this session\, you will: \n\n\nGain valuable insights into the practical steps taken to create a secure portal providing focused\, interactive reports\, offering a comprehensive view of student status and growth at various levels – county\, region\, district\, and school. \n\n\nLearn firsthand about the strategic collaboration with assessment vendors\, resulting in streamlined and user-friendly detailed reports tailored for district use. \n\n\nExplore the development of a robust infrastructure capable of collecting\, processing\, and storing multi-year assessment data from diverse vendors\, ensuring accessibility and reliability. \n\n\nHear about SBCSS’ plans for a “how-to” guide\, designed to empower other County Offices of Education to replicate this impactful project in their own communities \n\n\nRegister here. 
URL:https://ccee-ca.org/event/empowering-educators-the-local-assessment-project/
CATEGORIES:CCEE,Live Professional Learning Sessions
ATTACH;FMTTYPE=image/png:https://ccee-ca.org/wp-content/uploads/2024/03/Image20240313141403.png
END:VEVENT
BEGIN:VEVENT
DTSTART;TZID=America/Los_Angeles:20240411T103000
DTEND;TZID=America/Los_Angeles:20240411T123000
DTSTAMP:20260421T062424
CREATED:20240409T161624Z
LAST-MODIFIED:20240409T161624Z
UID:10005429-1712831400-1712838600@ccee-ca.org
SUMMARY:CCEE Presentation to The Central Valley Education Coalition (CVEC)
DESCRIPTION:Presentation to The Central Valley Education Coalition (CVEC) \nDate: Thursday\, April 11\, 2024 \nWe are excited to announce that our Executive Director will be presenting to The Central Valley Education Coalition (CVEC) this Thursday. The CVEC\, a prominent education advocacy group\, represents 128 public education organizations across Fresno\, Kings\, Madera\, Mariposa\, Merced\, and Tulare counties. \nAbout the CVEC: Formed in 2005 by county and district leaders\, the CVEC has been at the forefront of advocating for the educational needs of the Central Valley’s diverse student population. Its mission encompasses: \n\nFocusing on the diverse needs of Central Valley students\nPreparing every student for college and career success\nIncreasing graduation rates while reducing school dropouts\nEnsuring equality\, equity\, and full funding for schools\n\nThe CVEC plays a vital role in increasing the visibility of the Central Valley with policy makers in Sacramento\, advocating for strategic changes that provide the essential financial and programmatic tools needed to support our growing student population. \nLocation: Madera County Superintendent of Schools at 1105 S Madera Ave\, Madera\, CA 93637
URL:https://ccee-ca.org/event/ccee-presentation-to-the-central-valley-education-coalition-cvec/
CATEGORIES:CCEE,Meeting
ATTACH;FMTTYPE=image/png:https://ccee-ca.org/wp-content/uploads/2024/01/Matt-Hot-Topic-3.png
END:VEVENT
BEGIN:VEVENT
DTSTART;TZID=America/Los_Angeles:20240411T150000
DTEND;TZID=America/Los_Angeles:20240411T160000
DTSTAMP:20260421T062424
CREATED:20230914T224857Z
LAST-MODIFIED:20230914T224858Z
UID:10005384-1712847600-1712851200@ccee-ca.org
SUMMARY:Orthography as an Element of  Structured Literacy
DESCRIPTION:Join the FREE expert webinar series hosted by the Sacramento County Office of Education\,\nproject lead for the California Dyslexia Initiative (CDI)\, in partnership with Glean Education. Learn more about\nthe International Dyslexia Association’s (IDA) updated graphic on Structured Literacy instruction and what\neducators need to know about the content and principles of a high-quality structured literacy approach\ngrounded in the science of reading. \nPresentation by Nancy Mather\, Ph.D.\, Professor Emerita\, University of Arizona \nRegister for this FREE\, seven-part webinar series and learn from our nation’s experts as they delve into\nsupporting English Language Learners\, differentiating for students with dyslexia\, and using assessment data\nto inform instruction. Follow-up discussion and activity guides will accompany each webinar to support\ndeeper exploration of the content presented. \n  \nRegistration Link: https://scoe.gosignmeup.com/public/Course/browse?courseid=12505 \nLocation: Zoom (link will be sent prior to each webinar)\nCost: No charge (funded through CDI)\nAudience: Pre–K through Grade 12 Teachers\, Teacher Leaders\, Teachers on Special Assignment\n(TOSAs)\, Instructional Coaches\, Department Heads\, RtI and/or Special Education Teachers\, Instructional\nSupport Staff\, Site and District Leaders\, Parents\, Guardians\, Caregivers\, and Tutors \nShare with Colleagues! Webinar Flyer: bit.ly/3PFqQxE
URL:https://ccee-ca.org/event/orthography-as-an-element-of-structured-literacy/
CATEGORIES:CCEE
ATTACH;FMTTYPE=image/png:https://ccee-ca.org/wp-content/uploads/2023/09/CA-Dyslexia-Initiative-e1694708255312.png
END:VEVENT
END:VCALENDAR