BEGIN:VCALENDAR
VERSION:2.0
PRODID:-//CCEE - ECPv6.15.20//NONSGML v1.0//EN
CALSCALE:GREGORIAN
METHOD:PUBLISH
X-WR-CALNAME:CCEE
X-ORIGINAL-URL:https://ccee-ca.org
X-WR-CALDESC:Events for CCEE
REFRESH-INTERVAL;VALUE=DURATION:PT1H
X-Robots-Tag:noindex
X-PUBLISHED-TTL:PT1H
BEGIN:VTIMEZONE
TZID:America/Los_Angeles
BEGIN:DAYLIGHT
TZOFFSETFROM:-0800
TZOFFSETTO:-0700
TZNAME:PDT
DTSTART:20250309T100000
END:DAYLIGHT
BEGIN:STANDARD
TZOFFSETFROM:-0700
TZOFFSETTO:-0800
TZNAME:PST
DTSTART:20251102T090000
END:STANDARD
BEGIN:DAYLIGHT
TZOFFSETFROM:-0800
TZOFFSETTO:-0700
TZNAME:PDT
DTSTART:20260308T100000
END:DAYLIGHT
BEGIN:STANDARD
TZOFFSETFROM:-0700
TZOFFSETTO:-0800
TZNAME:PST
DTSTART:20261101T090000
END:STANDARD
BEGIN:DAYLIGHT
TZOFFSETFROM:-0800
TZOFFSETTO:-0700
TZNAME:PDT
DTSTART:20270314T100000
END:DAYLIGHT
BEGIN:STANDARD
TZOFFSETFROM:-0700
TZOFFSETTO:-0800
TZNAME:PST
DTSTART:20271107T090000
END:STANDARD
END:VTIMEZONE
BEGIN:VEVENT
DTSTART;TZID=America/Los_Angeles:20260302T110000
DTEND;TZID=America/Los_Angeles:20260302T123000
DTSTAMP:20260423T020408
CREATED:20250923T160523Z
LAST-MODIFIED:20250923T160523Z
UID:10007512-1772449200-1772454600@ccee-ca.org
SUMMARY:COLLN: County Office Leading and Learning Network
DESCRIPTION:
URL:https://ccee-ca.org/event/__trashed-182/
CATEGORIES:Network Convening
ORGANIZER;CN="CEI":MAILTO:info@californiaengage.org
END:VEVENT
BEGIN:VEVENT
DTSTART;TZID=America/Los_Angeles:20260304T110000
DTEND;TZID=America/Los_Angeles:20260304T120000
DTSTAMP:20260423T020408
CREATED:20250923T160523Z
LAST-MODIFIED:20250923T160523Z
UID:10007506-1772622000-1772625600@ccee-ca.org
SUMMARY:CEI: PLLX Office Hours (OPTIONAL)
DESCRIPTION:
URL:https://ccee-ca.org/event/__trashed-173/
CATEGORIES:Network Convening
ORGANIZER;CN="CEI":MAILTO:info@californiaengage.org
END:VEVENT
END:VCALENDAR