BEGIN:VCALENDAR
VERSION:2.0
PRODID:-//CCEE - ECPv6.15.20//NONSGML v1.0//EN
CALSCALE:GREGORIAN
METHOD:PUBLISH
X-WR-CALNAME:CCEE
X-ORIGINAL-URL:https://ccee-ca.org
X-WR-CALDESC:Events for CCEE
REFRESH-INTERVAL;VALUE=DURATION:PT1H
X-Robots-Tag:noindex
X-PUBLISHED-TTL:PT1H
BEGIN:VTIMEZONE
TZID:America/Los_Angeles
BEGIN:DAYLIGHT
TZOFFSETFROM:-0800
TZOFFSETTO:-0700
TZNAME:PDT
DTSTART:20220313T100000
END:DAYLIGHT
BEGIN:STANDARD
TZOFFSETFROM:-0700
TZOFFSETTO:-0800
TZNAME:PST
DTSTART:20221106T090000
END:STANDARD
BEGIN:DAYLIGHT
TZOFFSETFROM:-0800
TZOFFSETTO:-0700
TZNAME:PDT
DTSTART:20230312T100000
END:DAYLIGHT
BEGIN:STANDARD
TZOFFSETFROM:-0700
TZOFFSETTO:-0800
TZNAME:PST
DTSTART:20231105T090000
END:STANDARD
BEGIN:DAYLIGHT
TZOFFSETFROM:-0800
TZOFFSETTO:-0700
TZNAME:PDT
DTSTART:20240310T100000
END:DAYLIGHT
BEGIN:STANDARD
TZOFFSETFROM:-0700
TZOFFSETTO:-0800
TZNAME:PST
DTSTART:20241103T090000
END:STANDARD
END:VTIMEZONE
BEGIN:VTIMEZONE
TZID:PST
END:VTIMEZONE
BEGIN:VEVENT
DTSTART;VALUE=DATE:20230621
DTEND;VALUE=DATE:20230626
DTSTAMP:20260419T093724
CREATED:20230327T160318Z
LAST-MODIFIED:20230327T160619Z
UID:10006388-1687305600-1687737599@ccee-ca.org
SUMMARY:2023 PSC Summer Learning Institute: Continued and Sustained Progress
DESCRIPTION:The San Luis Obispo County Office of Education is hosting the 2023 PCS Summer Learning Institute to Support all Students Through Effective and Proven Strategies. Register now by clicking on the URL. To view the Conference At-A-Glance\, click here. \nJune 21-23\, 2023\nJune 24th optional PSC Experience\nMorro Bay Community Center\n1001 Kennedy Way\nMorro Bay\, CA 93442\nIndividual: $450.00\nTwo or More: $425.00
URL:https://ccee-ca.org/event/2023-psc-summer-learning-institute-continued-and-sustained-progress/
ATTACH;FMTTYPE=application/pdf:https://ccee-ca.org/wp-content/uploads/2023/03/SLI-Program-3.26.23-compressed.pdf
END:VEVENT
BEGIN:VEVENT
DTSTART;TZID=PST:20230620T090000
DTEND;TZID=PST:20230620T150000
DTSTAMP:20260419T093724
CREATED:20230512T192012Z
LAST-MODIFIED:20230512T192012Z
UID:10006465-1687251600-1687273200@ccee-ca.org
SUMMARY:Integrated and Designated ELD at the Secondary Level in ALL Content Areas
DESCRIPTION:
URL:https://ccee-ca.org/event/integrated-and-designated-eld-at-the-secondary-level-in-all-content-areas/
END:VEVENT
BEGIN:VEVENT
DTSTART;TZID=PST:20230620T083000
DTEND;TZID=PST:20230620T153000
DTSTAMP:20260419T093724
CREATED:20230512T192012Z
LAST-MODIFIED:20230512T192012Z
UID:10006464-1687249800-1687275000@ccee-ca.org
SUMMARY:ELPAC New Coordinator Training (150)
DESCRIPTION:
URL:https://ccee-ca.org/event/elpac-new-coordinator-training-150/
END:VEVENT
BEGIN:VEVENT
DTSTART;TZID=America/Los_Angeles:20230620T080000
DTEND;TZID=America/Los_Angeles:20230622T170000
DTSTAMP:20260419T093724
CREATED:20230605T221011Z
LAST-MODIFIED:20230605T221011Z
UID:10005354-1687248000-1687453200@ccee-ca.org
SUMMARY:CCLA Professional Learning Network (San Jose) - Closed Session
DESCRIPTION:
URL:https://ccee-ca.org/event/ccla-professional-learning-network-san-jose-closed-session/
ATTACH;FMTTYPE=image/png:https://ccee-ca.org/wp-content/uploads/2023/06/CCLA-logo-Color1.png
END:VEVENT
BEGIN:VEVENT
DTSTART;TZID=PST:20230617T080000
DTEND;TZID=PST:20230617T160000
DTSTAMP:20260419T093724
CREATED:20230512T192011Z
LAST-MODIFIED:20230512T192011Z
UID:10006463-1686988800-1687017600@ccee-ca.org
SUMMARY:Early Learning: At the Heart of it All (Saturday)
DESCRIPTION:
URL:https://ccee-ca.org/event/early-learning-at-the-heart-of-it-all-saturday/
END:VEVENT
BEGIN:VEVENT
DTSTART;TZID=PST:20230616T090000
DTEND;TZID=PST:20230616T160000
DTSTAMP:20260419T093724
CREATED:20230512T193643Z
LAST-MODIFIED:20230512T193643Z
UID:10006505-1686906000-1686931200@ccee-ca.org
SUMMARY:ELRISE! Structuring Districts & School Site Programs to Meet the Needs of Newcomer Students
DESCRIPTION:
URL:https://ccee-ca.org/event/elrise-structuring-districts-school-site-programs-to-meet-the-needs-of-newcomer-students/
END:VEVENT
BEGIN:VEVENT
DTSTART;TZID=PST:20230616T080000
DTEND;TZID=PST:20230616T161500
DTSTAMP:20260419T093724
CREATED:20230512T191811Z
LAST-MODIFIED:20230512T191811Z
UID:10006462-1686902400-1686932100@ccee-ca.org
SUMMARY:Early Learning: At the Heart of it All (Friday)
DESCRIPTION:
URL:https://ccee-ca.org/event/early-learning-at-the-heart-of-it-all-friday/
END:VEVENT
BEGIN:VEVENT
DTSTART;TZID=PST:20230615T163000
DTEND;TZID=PST:20230615T173000
DTSTAMP:20260419T093724
CREATED:20230512T193643Z
LAST-MODIFIED:20230512T193643Z
UID:10005294-1686846600-1686850200@ccee-ca.org
SUMMARY:Career Technical Education (CTE) Credential Program Online Advisement Meeting
DESCRIPTION:
URL:https://ccee-ca.org/event/career-technical-education-cte-credential-program-online-advisement-meeting-2/
END:VEVENT
BEGIN:VEVENT
DTSTART;TZID=America/Los_Angeles:20230615T090000
DTEND;TZID=America/Los_Angeles:20230615T120000
DTSTAMP:20260419T093724
CREATED:20220209T221459Z
LAST-MODIFIED:20230711T175633Z
UID:10003404-1686819600-1686830400@ccee-ca.org
SUMMARY:CCEE Governing Board Meeting
DESCRIPTION:
URL:https://ccee-ca.org/event/ccee-governing-board-meeting-7/2023-06-15/
CATEGORIES:CCEE,Governing Board / Advisory Council
ATTACH;FMTTYPE=image/jpeg:https://ccee-ca.org/wp-content/uploads/2023/01/CCEE-Logo-RGB-300ppi-twitter.jpg
END:VEVENT
BEGIN:VEVENT
DTSTART;TZID=PST:20230615T083000
DTEND;TZID=PST:20230615T113000
DTSTAMP:20260419T093724
CREATED:20230512T191811Z
LAST-MODIFIED:20230512T191811Z
UID:10006461-1686817800-1686828600@ccee-ca.org
SUMMARY:Attendance and Engagement Network Meetings - Final Meeting of the School Year
DESCRIPTION:
URL:https://ccee-ca.org/event/attendance-and-engagement-network-meetings-final-meeting-of-the-school-year/
END:VEVENT
BEGIN:VEVENT
DTSTART;TZID=PST:20230614T150000
DTEND;TZID=PST:20230614T170000
DTSTAMP:20260419T093724
CREATED:20230512T193635Z
LAST-MODIFIED:20230512T193635Z
UID:10005292-1686754800-1686762000@ccee-ca.org
SUMMARY:RICA Test Prep Class - Written Option
DESCRIPTION:
URL:https://ccee-ca.org/event/rica-test-prep-class-written-option-3/
END:VEVENT
BEGIN:VEVENT
DTSTART;TZID=PST:20230614T110000
DTEND;TZID=PST:20230614T123000
DTSTAMP:20260419T093724
CREATED:20230512T190949Z
LAST-MODIFIED:20230512T190949Z
UID:10006429-1686740400-1686745800@ccee-ca.org
SUMMARY:Escape - Accounts Receivable Accruals Year End Setup Workshop
DESCRIPTION:
URL:https://ccee-ca.org/event/escape-accounts-receivable-accruals-year-end-setup-workshop-2/
END:VEVENT
BEGIN:VEVENT
DTSTART;TZID=PST:20230614T090000
DTEND;TZID=PST:20230614T130000
DTSTAMP:20260419T093724
CREATED:20230512T193643Z
LAST-MODIFIED:20230512T193643Z
UID:10005293-1686733200-1686747600@ccee-ca.org
SUMMARY:TK Learning Foundations
DESCRIPTION:
URL:https://ccee-ca.org/event/tk-learning-foundations/
END:VEVENT
BEGIN:VEVENT
DTSTART;TZID=PST:20230614T090000
DTEND;TZID=PST:20230614T103000
DTSTAMP:20260419T093724
CREATED:20230512T190949Z
LAST-MODIFIED:20230512T190949Z
UID:10005225-1686733200-1686738600@ccee-ca.org
SUMMARY:Escape - Accounts Payable Accruals Year End Setup Workshop
DESCRIPTION:
URL:https://ccee-ca.org/event/escape-accounts-payable-accruals-year-end-setup-workshop-2/
END:VEVENT
BEGIN:VEVENT
DTSTART;TZID=PST:20230613T160000
DTEND;TZID=PST:20230613T173000
DTSTAMP:20260419T093724
CREATED:20230512T193446Z
LAST-MODIFIED:20230512T193446Z
UID:10006478-1686672000-1686677400@ccee-ca.org
SUMMARY:The Mathematics Framework Series
DESCRIPTION:
URL:https://ccee-ca.org/event/the-mathematics-framework-series/
END:VEVENT
BEGIN:VEVENT
DTSTART;TZID=PST:20230613T150000
DTEND;TZID=PST:20230613T170000
DTSTAMP:20260419T093724
CREATED:20230512T193635Z
LAST-MODIFIED:20230512T193635Z
UID:10005291-1686668400-1686675600@ccee-ca.org
SUMMARY:RICA Test Prep Class - Written Option
DESCRIPTION:
URL:https://ccee-ca.org/event/rica-test-prep-class-written-option-2/
END:VEVENT
BEGIN:VEVENT
DTSTART;TZID=PST:20230612T170000
DTEND;TZID=PST:20230612T190000
DTSTAMP:20260419T093724
CREATED:20230512T193634Z
LAST-MODIFIED:20230512T193634Z
UID:10005290-1686589200-1686596400@ccee-ca.org
SUMMARY:RICA Video Performance Assessment Prep
DESCRIPTION:
URL:https://ccee-ca.org/event/rica-video-performance-assessment-prep/
END:VEVENT
BEGIN:VEVENT
DTSTART;TZID=PST:20230612T083000
DTEND;TZID=PST:20230612T153000
DTSTAMP:20260419T093724
CREATED:20230512T190605Z
LAST-MODIFIED:20230512T190605Z
UID:10005203-1686558600-1686583800@ccee-ca.org
SUMMARY:Shasta County Social Emotional & Academic Learning - Adoption Invitation
DESCRIPTION:
URL:https://ccee-ca.org/event/shasta-county-social-emotional-academic-learning-adoption-invitation/
END:VEVENT
BEGIN:VEVENT
DTSTART;TZID=PST:20230609T210000
DTEND;TZID=PST:20230609T210000
DTSTAMP:20260419T093724
CREATED:20230512T190605Z
LAST-MODIFIED:20230512T190605Z
UID:10005201-1686344400-1686344400@ccee-ca.org
SUMMARY:Hot Topics in Special Education - Spring 2023
DESCRIPTION:
URL:https://ccee-ca.org/event/hot-topics-in-special-education-spring-2023/
END:VEVENT
BEGIN:VEVENT
DTSTART;TZID=PST:20230609T083000
DTEND;TZID=PST:20230609T110000
DTSTAMP:20260419T093724
CREATED:20230512T193634Z
LAST-MODIFIED:20230512T193634Z
UID:10005289-1686299400-1686308400@ccee-ca.org
SUMMARY:TCOE SEL Cross-Department Collaboration
DESCRIPTION:
URL:https://ccee-ca.org/event/tcoe-sel-cross-department-collaboration/
END:VEVENT
BEGIN:VEVENT
DTSTART;TZID=PST:20230608T163000
DTEND;TZID=PST:20230608T173000
DTSTAMP:20260419T093724
CREATED:20230512T193627Z
LAST-MODIFIED:20230512T193627Z
UID:10005287-1686241800-1686245400@ccee-ca.org
SUMMARY:Preliminary Administrative Services Credential Program Information Meeting
DESCRIPTION:
URL:https://ccee-ca.org/event/preliminary-administrative-services-credential-program-information-meeting-2/
END:VEVENT
BEGIN:VEVENT
DTSTART;TZID=PST:20230608T160000
DTEND;TZID=PST:20230608T170000
DTSTAMP:20260419T093724
CREATED:20230512T193634Z
LAST-MODIFIED:20230512T193634Z
UID:10005288-1686240000-1686243600@ccee-ca.org
SUMMARY:Teacher Induction Exit Interview
DESCRIPTION:
URL:https://ccee-ca.org/event/teacher-induction-exit-interview-9/
END:VEVENT
BEGIN:VEVENT
DTSTART;TZID=PST:20230608T090000
DTEND;TZID=PST:20230608T130000
DTSTAMP:20260419T093724
CREATED:20230512T190949Z
LAST-MODIFIED:20230512T190949Z
UID:10005223-1686214800-1686229200@ccee-ca.org
SUMMARY:Conversations in Community
DESCRIPTION:
URL:https://ccee-ca.org/event/conversations-in-community/
END:VEVENT
BEGIN:VEVENT
DTSTART;TZID=PST:20230607T170000
DTEND;TZID=PST:20230607T180000
DTSTAMP:20260419T093724
CREATED:20230512T193626Z
LAST-MODIFIED:20230512T193626Z
UID:10005285-1686157200-1686160800@ccee-ca.org
SUMMARY:IMPACT Intern Program Online Information Meeting
DESCRIPTION:
URL:https://ccee-ca.org/event/impact-intern-program-online-information-meeting/
END:VEVENT
BEGIN:VEVENT
DTSTART;TZID=PST:20230607T160000
DTEND;TZID=PST:20230607T170000
DTSTAMP:20260419T093724
CREATED:20230512T193627Z
LAST-MODIFIED:20230512T193627Z
UID:10005286-1686153600-1686157200@ccee-ca.org
SUMMARY:Teacher Induction Exit Interview
DESCRIPTION:
URL:https://ccee-ca.org/event/teacher-induction-exit-interview-8/
END:VEVENT
BEGIN:VEVENT
DTSTART;TZID=PST:20230607T140000
DTEND;TZID=PST:20230607T153000
DTSTAMP:20260419T093724
CREATED:20230512T190933Z
LAST-MODIFIED:20230512T190933Z
UID:10005221-1686146400-1686151800@ccee-ca.org
SUMMARY:Substitute Orientation (Virtual Offering) - Afternoon Session
DESCRIPTION:
URL:https://ccee-ca.org/event/substitute-orientation-virtual-offering-afternoon-session-2/
END:VEVENT
BEGIN:VEVENT
DTSTART;TZID=PST:20230606T160000
DTEND;TZID=PST:20230606T170000
DTSTAMP:20260419T093724
CREATED:20230512T193626Z
LAST-MODIFIED:20230512T193626Z
UID:10006504-1686067200-1686070800@ccee-ca.org
SUMMARY:Teacher Induction Exit Interview
DESCRIPTION:
URL:https://ccee-ca.org/event/teacher-induction-exit-interview-7/
END:VEVENT
BEGIN:VEVENT
DTSTART;TZID=PST:20230606T100000
DTEND;TZID=PST:20230606T120000
DTSTAMP:20260419T093724
CREATED:20230512T193626Z
LAST-MODIFIED:20230512T193626Z
UID:10006503-1686045600-1686052800@ccee-ca.org
SUMMARY:Improvement Science Cohort 2022-23
DESCRIPTION:
URL:https://ccee-ca.org/event/improvement-science-cohort-2022-23/
END:VEVENT
BEGIN:VEVENT
DTSTART;TZID=PST:20230606T083000
DTEND;TZID=PST:20230606T150000
DTSTAMP:20260419T093724
CREATED:20230512T191038Z
LAST-MODIFIED:20230512T191038Z
UID:10006447-1686040200-1686063600@ccee-ca.org
SUMMARY:Introduction to Universal Design for Learning (UDL)
DESCRIPTION:
URL:https://ccee-ca.org/event/introduction-to-universal-design-for-learning-udl-3/
END:VEVENT
BEGIN:VEVENT
DTSTART;TZID=PST:20230605T153000
DTEND;TZID=PST:20230605T170000
DTSTAMP:20260419T093724
CREATED:20230512T193617Z
LAST-MODIFIED:20230512T193617Z
UID:10006502-1685979000-1685984400@ccee-ca.org
SUMMARY:"She Leads" Professional Learning Module
DESCRIPTION:
URL:https://ccee-ca.org/event/she-leads-professional-learning-module-2/
END:VEVENT
END:VCALENDAR