BEGIN:VCALENDAR
VERSION:2.0
PRODID:-//CCEE - ECPv6.15.20//NONSGML v1.0//EN
CALSCALE:GREGORIAN
METHOD:PUBLISH
X-WR-CALNAME:CCEE
X-ORIGINAL-URL:https://ccee-ca.org
X-WR-CALDESC:Events for CCEE
REFRESH-INTERVAL;VALUE=DURATION:PT1H
X-Robots-Tag:noindex
X-PUBLISHED-TTL:PT1H
BEGIN:VTIMEZONE
TZID:PST
END:VTIMEZONE
BEGIN:VTIMEZONE
TZID:America/Los_Angeles
BEGIN:DAYLIGHT
TZOFFSETFROM:-0800
TZOFFSETTO:-0700
TZNAME:PDT
DTSTART:20220313T100000
END:DAYLIGHT
BEGIN:STANDARD
TZOFFSETFROM:-0700
TZOFFSETTO:-0800
TZNAME:PST
DTSTART:20221106T090000
END:STANDARD
BEGIN:DAYLIGHT
TZOFFSETFROM:-0800
TZOFFSETTO:-0700
TZNAME:PDT
DTSTART:20230312T100000
END:DAYLIGHT
BEGIN:STANDARD
TZOFFSETFROM:-0700
TZOFFSETTO:-0800
TZNAME:PST
DTSTART:20231105T090000
END:STANDARD
BEGIN:DAYLIGHT
TZOFFSETFROM:-0800
TZOFFSETTO:-0700
TZNAME:PDT
DTSTART:20240310T100000
END:DAYLIGHT
BEGIN:STANDARD
TZOFFSETFROM:-0700
TZOFFSETTO:-0800
TZNAME:PST
DTSTART:20241103T090000
END:STANDARD
END:VTIMEZONE
BEGIN:VEVENT
DTSTART;TZID=PST:20230531T080000
DTEND;TZID=PST:20230531T153000
DTSTAMP:20260421T004534
CREATED:20230512T191810Z
LAST-MODIFIED:20230512T191810Z
UID:10006458-1685520000-1685547000@ccee-ca.org
SUMMARY:Engage Every Family: Five Simple Principles
DESCRIPTION:
URL:https://ccee-ca.org/event/engage-every-family-five-simple-principles/
END:VEVENT
BEGIN:VEVENT
DTSTART;TZID=PST:20230530T160000
DTEND;TZID=PST:20230530T170000
DTSTAMP:20260421T004534
CREATED:20230512T193617Z
LAST-MODIFIED:20230512T193617Z
UID:10006499-1685462400-1685466000@ccee-ca.org
SUMMARY:Teacher Induction Exit Interview
DESCRIPTION:
URL:https://ccee-ca.org/event/teacher-induction-exit-interview-6/
END:VEVENT
BEGIN:VEVENT
DTSTART;TZID=America/Los_Angeles:20230530T150000
DTEND;TZID=America/Los_Angeles:20230530T160000
DTSTAMP:20260421T004534
CREATED:20230511T130612Z
LAST-MODIFIED:20230511T130613Z
UID:10005190-1685458800-1685462400@ccee-ca.org
SUMMARY:Head Start Blending\, Braiding and Layering Best Practices
DESCRIPTION:Please join us on May 30\, 2023\, from 3pm to 4pm for a webinar on Head Start Blending\, Braiding and Layering Best Practices. This event is sponsored by the CDSS Head Start State Collaboration Office in collaboration with Santa Clara County Office of Education and hosted by Head Start California. To learn more\, please review the attached flyer. \n  \nPlease register in advance here: https://us02web.zoom.us/meeting/register/tZUude2vrDMrHdXFztuMeT_6IvBcANtDLO2d#/registration \n  \nThe webinar is intended for school administrators\, Head Start program directors\, early learning and care directors and staff\, and anyone who would like to learn more about how to blend\, braid\, and layer with Head Start programs to maximize benefits to children\, families\, and providers. \n  \nThe webinar will cover the following topics: \n\nThe benefits of partnering with Head Start programs\nExamples of blending\, braiding and layering best practice\nTailored technical assistance tools to help schools identify their strongest blending\, braiding\, and layering options\nResources to help schools identify Head Start providers in their region and partner with them to implement solutions to staffing\, facilities\, and revenues concerns
URL:https://ccee-ca.org/event/head-start-blending-braiding-and-layering-best-practices/
ATTACH;FMTTYPE=image/png:https://ccee-ca.org/wp-content/uploads/2023/05/Head-Start-2.png
END:VEVENT
BEGIN:VEVENT
DTSTART;TZID=PST:20230530T083000
DTEND;TZID=PST:20230530T160000
DTSTAMP:20260421T004534
CREATED:20230512T193616Z
LAST-MODIFIED:20230512T193616Z
UID:10006498-1685435400-1685462400@ccee-ca.org
SUMMARY:Framework for Teaching Registration for Summer 2 2023 Session
DESCRIPTION:
URL:https://ccee-ca.org/event/framework-for-teaching-registration-for-summer-2-2023-session/
END:VEVENT
BEGIN:VEVENT
DTSTART;TZID=America/Los_Angeles:20230525T170000
DTEND;TZID=America/Los_Angeles:20230525T200000
DTSTAMP:20260421T004534
CREATED:20230130T214344Z
LAST-MODIFIED:20230130T214344Z
UID:10006365-1685034000-1685044800@ccee-ca.org
SUMMARY:DRDP (2015) Planning with Data
DESCRIPTION:Cost: NA \nAudience: Teaching/Administrator/Leadership Staff \nRegistation: San Diego County Office of Education (k12oms.org) \nRegistration closes 5/10/23
URL:https://ccee-ca.org/event/drdp-2015-planning-with-data-6/
END:VEVENT
BEGIN:VEVENT
DTSTART;TZID=PST:20230525T100000
DTEND;TZID=PST:20230525T130000
DTSTAMP:20260421T004534
CREATED:20230512T191610Z
LAST-MODIFIED:20230512T191610Z
UID:10006457-1685008800-1685019600@ccee-ca.org
SUMMARY:Liberatory Design Lab - Take it Up!
DESCRIPTION:
URL:https://ccee-ca.org/event/liberatory-design-lab-take-it-up/
END:VEVENT
BEGIN:VEVENT
DTSTART;TZID=PST:20230525T093000
DTEND;TZID=PST:20230526T120000
DTSTAMP:20260421T004534
CREATED:20230512T190933Z
LAST-MODIFIED:20230512T190933Z
UID:10005219-1685007000-1685102400@ccee-ca.org
SUMMARY:CalSAAS Workshop
DESCRIPTION:
URL:https://ccee-ca.org/event/calsaas-workshop/
END:VEVENT
BEGIN:VEVENT
DTSTART;TZID=America/Los_Angeles:20230525T083000
DTEND;TZID=America/Los_Angeles:20230525T163000
DTSTAMP:20260421T004534
CREATED:20230123T004240Z
LAST-MODIFIED:20230130T214343Z
UID:10003990-1685003400-1685032200@ccee-ca.org
SUMMARY:ASIST
DESCRIPTION:Cost: 25 \nAudience: Anyone age 16 and older can learn the skills to intervene to save a life from suicide. Community members and agency staff are encouraged to attend. \nRegistation: Tara Neilsen (530) 745-1482 or Jessica LeFohn (530) 745-1467 \nRegistration closes 5/22/23
URL:https://ccee-ca.org/event/asist-8/
END:VEVENT
BEGIN:VEVENT
DTSTART;TZID=America/Los_Angeles:20230525T083000
DTEND;TZID=America/Los_Angeles:20230525T150000
DTSTAMP:20260421T004534
CREATED:20230130T214343Z
LAST-MODIFIED:20230130T214343Z
UID:10006363-1685003400-1685026800@ccee-ca.org
SUMMARY:Claim\, Evidence\, and Reasoning with NGSS
DESCRIPTION:Cost: 250 \nAudience: NA \nRegistation: Academic Technology (k12oms.org) \nRegistration closes 5/17/23
URL:https://ccee-ca.org/event/claim-evidence-and-reasoning-with-ngss-4/
END:VEVENT
BEGIN:VEVENT
DTSTART;TZID=America/Los_Angeles:20230525T081500
DTEND;TZID=America/Los_Angeles:20230525T151500
DTSTAMP:20260421T004534
CREATED:20230130T214343Z
LAST-MODIFIED:20230130T214343Z
UID:10006364-1685002500-1685027700@ccee-ca.org
SUMMARY:Project GLAD® Part 2: 4-Day Demonstration: Grade TK-2
DESCRIPTION:Cost: 600 \nAudience: TK-12 Teachers \nRegistation: San Diego County Office of Education (k12oms.org) \nRegistration closes 5/22/23
URL:https://ccee-ca.org/event/project-glad-part-2-4-day-demonstration-grade-tk-2-12/
END:VEVENT
BEGIN:VEVENT
DTSTART;TZID=PST:20230524T160000
DTEND;TZID=PST:20230524T170000
DTSTAMP:20260421T004534
CREATED:20230512T193610Z
LAST-MODIFIED:20230512T193610Z
UID:10006496-1684944000-1684947600@ccee-ca.org
SUMMARY:Teacher Induction Exit Interview
DESCRIPTION:
URL:https://ccee-ca.org/event/teacher-induction-exit-interview-5/
END:VEVENT
BEGIN:VEVENT
DTSTART;TZID=PST:20230524T153000
DTEND;TZID=PST:20230524T170000
DTSTAMP:20260421T004534
CREATED:20230512T193609Z
LAST-MODIFIED:20230512T193609Z
UID:10006494-1684942200-1684947600@ccee-ca.org
SUMMARY:Community Schools Partnership Program
DESCRIPTION:
URL:https://ccee-ca.org/event/community-schools-partnership-program/
END:VEVENT
BEGIN:VEVENT
DTSTART;TZID=PST:20230524T110000
DTEND;TZID=PST:20230524T120000
DTSTAMP:20260421T004534
CREATED:20230512T190604Z
LAST-MODIFIED:20230512T190604Z
UID:10005197-1684926000-1684929600@ccee-ca.org
SUMMARY:LCAP Support Office Hour
DESCRIPTION:
URL:https://ccee-ca.org/event/lcap-support-office-hour-4/
END:VEVENT
BEGIN:VEVENT
DTSTART;TZID=America/Los_Angeles:20230524T093000
DTEND;TZID=America/Los_Angeles:20230524T110000
DTSTAMP:20260421T004534
CREATED:20230130T214333Z
LAST-MODIFIED:20230130T214333Z
UID:10005163-1684920600-1684926000@ccee-ca.org
SUMMARY:Charter Schools Network
DESCRIPTION:Cost: NA \nAudience: Charter School Administrators \nRegistation: Charter Schools Network | Professional Learning Calendar | Riverside County Office of Education (rcoe.us)
URL:https://ccee-ca.org/event/charter-schools-network-5/
END:VEVENT
BEGIN:VEVENT
DTSTART;TZID=America/Los_Angeles:20230524T090000
DTEND;TZID=America/Los_Angeles:20230524T103000
DTSTAMP:20260421T004534
CREATED:20230130T214343Z
LAST-MODIFIED:20230130T214343Z
UID:10006362-1684918800-1684924200@ccee-ca.org
SUMMARY:San Diego County Charter Instructional Leader Meeting
DESCRIPTION:Cost: NA \nAudience: Curriculum and Instruction Teams at Charter Schools \nRegistation: San Diego County Office of Education (k12oms.org) \nRegistration closes 5/23/23
URL:https://ccee-ca.org/event/san-diego-county-charter-instructional-leader-meeting-6/
END:VEVENT
BEGIN:VEVENT
DTSTART;TZID=PST:20230524T090000
DTEND;TZID=PST:20230524T093000
DTSTAMP:20260421T004534
CREATED:20230512T193609Z
LAST-MODIFIED:20230512T193609Z
UID:10006495-1684918800-1684920600@ccee-ca.org
SUMMARY:Mindfulness with Ms. M
DESCRIPTION:
URL:https://ccee-ca.org/event/mindfulness-with-ms-m-2/
END:VEVENT
BEGIN:VEVENT
DTSTART;TZID=PST:20230524T083000
DTEND;TZID=PST:20230524T150000
DTSTAMP:20260421T004534
CREATED:20230512T193610Z
LAST-MODIFIED:20230512T193610Z
UID:10006497-1684917000-1684940400@ccee-ca.org
SUMMARY:Tulare County Early Learning SEAL Cohort
DESCRIPTION:
URL:https://ccee-ca.org/event/tulare-county-early-learning-seal-cohort/
END:VEVENT
BEGIN:VEVENT
DTSTART;TZID=PST:20230524T083000
DTEND;TZID=PST:20230524T150000
DTSTAMP:20260421T004534
CREATED:20230512T190604Z
LAST-MODIFIED:20230512T190604Z
UID:10005195-1684917000-1684940400@ccee-ca.org
SUMMARY:Practical Early Intervention Strategies That Work (Preschool-Kindergarten)
DESCRIPTION:
URL:https://ccee-ca.org/event/practical-early-intervention-strategies-that-work-preschool-kindergarten/
END:VEVENT
BEGIN:VEVENT
DTSTART;TZID=America/Los_Angeles:20230524T083000
DTEND;TZID=America/Los_Angeles:20230524T150000
DTSTAMP:20260421T004534
CREATED:20230130T214333Z
LAST-MODIFIED:20230130T214333Z
UID:10005162-1684917000-1684940400@ccee-ca.org
SUMMARY:Claim\, Evidence\, and Reasoning with NGSS
DESCRIPTION:Cost: 250 \nAudience: NA \nRegistation: Academic Technology (k12oms.org) \nRegistration closes 5/17/23
URL:https://ccee-ca.org/event/claim-evidence-and-reasoning-with-ngss-3/
END:VEVENT
BEGIN:VEVENT
DTSTART;TZID=PST:20230524T083000
DTEND;TZID=PST:20230524T120000
DTSTAMP:20260421T004534
CREATED:20230130T214333Z
LAST-MODIFIED:20230512T193610Z
UID:10005161-1684917000-1684929600@ccee-ca.org
SUMMARY:safeTALK
DESCRIPTION:Cost: NA \nAudience: District Administrators\, General Education Teachers\, Instructional Aides/Paraprofessionals\, School Psychologists\, Site Administrators\, Special Education Teachers\, Speech and Language Pathologists\, Special Education Administrators \nRegistation: Special Services (k12oms.org) \nRegistration closes 5/22/23
URL:https://ccee-ca.org/event/safetalk-2/
END:VEVENT
BEGIN:VEVENT
DTSTART;TZID=America/Los_Angeles:20230524T081500
DTEND;TZID=America/Los_Angeles:20230524T151500
DTSTAMP:20260421T004534
CREATED:20230130T214333Z
LAST-MODIFIED:20230130T214333Z
UID:10006361-1684916100-1684941300@ccee-ca.org
SUMMARY:Project GLAD® Part 2: 4-Day Demonstration: Grade TK-2
DESCRIPTION:Cost: 600 \nAudience: TK-12 Teachers \nRegistation: San Diego County Office of Education (k12oms.org) \nRegistration closes 5/22/23
URL:https://ccee-ca.org/event/project-glad-part-2-4-day-demonstration-grade-tk-2-11/
END:VEVENT
BEGIN:VEVENT
DTSTART;TZID=PST:20230524T070000
DTEND;TZID=PST:20230524T080000
DTSTAMP:20260421T004534
CREATED:20230512T190505Z
LAST-MODIFIED:20230512T190505Z
UID:10005193-1684911600-1684915200@ccee-ca.org
SUMMARY:6 -12 Administrators Job Alike Breakfast
DESCRIPTION:
URL:https://ccee-ca.org/event/6-12-administrators-job-alike-breakfast/
END:VEVENT
BEGIN:VEVENT
DTSTART;TZID=PST:20230523T180000
DTEND;TZID=PST:20230523T190000
DTSTAMP:20260421T004534
CREATED:20230512T191037Z
LAST-MODIFIED:20230512T191037Z
UID:10006445-1684864800-1684868400@ccee-ca.org
SUMMARY:Father Literacy Project
DESCRIPTION:
URL:https://ccee-ca.org/event/father-literacy-project-4/
END:VEVENT
BEGIN:VEVENT
DTSTART;TZID=America/Los_Angeles:20230523T173000
DTEND;TZID=America/Los_Angeles:20230523T193000
DTSTAMP:20260421T004534
CREATED:20230130T212914Z
LAST-MODIFIED:20230130T212914Z
UID:10005158-1684863000-1684870200@ccee-ca.org
SUMMARY:Strengthening Families Framework-Knowledge of Parenting and Child Development Protective Factor
DESCRIPTION:Cost: NA \nAudience: Teaching/Administrator/Leadership Staff and Family Child Care Providers \nRegistation: San Diego County Office of Education (k12oms.org) \nRegistration closes 5/16/23
URL:https://ccee-ca.org/event/strengthening-families-framework-knowledge-of-parenting-and-child-development-protective-factor-2/
END:VEVENT
BEGIN:VEVENT
DTSTART;TZID=PST:20230523T163000
DTEND;TZID=PST:20230523T173000
DTSTAMP:20260421T004534
CREATED:20230512T193559Z
LAST-MODIFIED:20230512T193559Z
UID:10006491-1684859400-1684863000@ccee-ca.org
SUMMARY:Career Technical Education (CTE) Credential Program Online Advisement Meeting
DESCRIPTION:
URL:https://ccee-ca.org/event/career-technical-education-cte-credential-program-online-advisement-meeting/
END:VEVENT
BEGIN:VEVENT
DTSTART;TZID=PST:20230523T160000
DTEND;TZID=PST:20230523T170000
DTSTAMP:20260421T004534
CREATED:20230512T193600Z
LAST-MODIFIED:20230512T193600Z
UID:10006493-1684857600-1684861200@ccee-ca.org
SUMMARY:Teacher Induction Exit Interview
DESCRIPTION:
URL:https://ccee-ca.org/event/teacher-induction-exit-interview-4/
END:VEVENT
BEGIN:VEVENT
DTSTART;TZID=America/Los_Angeles:20230523T160000
DTEND;TZID=America/Los_Angeles:20230523T170000
DTSTAMP:20260421T004534
CREATED:20230130T212915Z
LAST-MODIFIED:20230130T212915Z
UID:10005160-1684857600-1684861200@ccee-ca.org
SUMMARY:San Diego Science Educator Book Club
DESCRIPTION:Cost: NA \nAudience: NA \nRegistation: San Diego County Office of Education (k12oms.org) \nRegistration closes 12/6/22
URL:https://ccee-ca.org/event/san-diego-science-educator-book-club-12/
END:VEVENT
BEGIN:VEVENT
DTSTART;TZID=America/Los_Angeles:20230523T143000
DTEND;TZID=America/Los_Angeles:20230523T160000
DTSTAMP:20260421T004534
CREATED:20230130T212914Z
LAST-MODIFIED:20230130T212914Z
UID:10005155-1684852200-1684857600@ccee-ca.org
SUMMARY:AAE Updates - Virtually
DESCRIPTION:Cost: NA \nAudience: Directors/Coordinators/TOSAs \nRegistation: San Diego County Office of Education (k12oms.org) \nRegistration closes 12/1/22
URL:https://ccee-ca.org/event/aae-updates-virtually-11/
END:VEVENT
BEGIN:VEVENT
DTSTART;TZID=PST:20230523T143000
DTEND;TZID=PST:20230523T153000
DTSTAMP:20260421T004534
CREATED:20230130T212714Z
LAST-MODIFIED:20230512T190505Z
UID:10005153-1684852200-1684855800@ccee-ca.org
SUMMARY:Alternative Education Community of Practice (Alt Ed CoP)
DESCRIPTION:Cost: Free \nAudience: Open to all and people can attend one or all meetings \nRegistation: https://bit.ly/shastacoealtedcop
URL:https://ccee-ca.org/event/alternative-education-community-of-practice-alt-ed-cop-10/
END:VEVENT
BEGIN:VEVENT
DTSTART;TZID=America/Los_Angeles:20230523T130000
DTEND;TZID=America/Los_Angeles:20230523T150000
DTSTAMP:20260421T004534
CREATED:20230208T013331Z
LAST-MODIFIED:20230208T162540Z
UID:10006376-1684846800-1684854000@ccee-ca.org
SUMMARY:CCEE Data Research Learning Network Meeting - Closed Session
DESCRIPTION:The Data Research Learning Network (DRLN) brings together select districts and counties from across the state of California to innovate their data systems for accelerated student learning. Through a three-pronged approach\, districts and counties transform their data program and practices by conducting a Data Equity Review\, promoting Deeper Learning through formative assessment practices\, and communicating success with Data Dashboards. \nTo learn more\, please visit the DRLN website. If you have any questions or would like to join the DRLN\, please contact Dr. Ingrid Roberson at iroberson@ccee-ca.org.
URL:https://ccee-ca.org/event/ccee-data-research-learning-network-drln-meeting-closed-session/2023-05-23/
CATEGORIES:CCEE
ATTACH;FMTTYPE=image/png:https://ccee-ca.org/wp-content/uploads/2023/02/DRLN-Graphic.png
END:VEVENT
END:VCALENDAR