BEGIN:VCALENDAR
VERSION:2.0
PRODID:-//CCEE - ECPv6.15.20//NONSGML v1.0//EN
CALSCALE:GREGORIAN
METHOD:PUBLISH
X-WR-CALNAME:CCEE
X-ORIGINAL-URL:https://ccee-ca.org
X-WR-CALDESC:Events for CCEE
REFRESH-INTERVAL;VALUE=DURATION:PT1H
X-Robots-Tag:noindex
X-PUBLISHED-TTL:PT1H
BEGIN:VTIMEZONE
TZID:America/Los_Angeles
BEGIN:DAYLIGHT
TZOFFSETFROM:-0800
TZOFFSETTO:-0700
TZNAME:PDT
DTSTART:20230312T100000
END:DAYLIGHT
BEGIN:STANDARD
TZOFFSETFROM:-0700
TZOFFSETTO:-0800
TZNAME:PST
DTSTART:20231105T090000
END:STANDARD
BEGIN:DAYLIGHT
TZOFFSETFROM:-0800
TZOFFSETTO:-0700
TZNAME:PDT
DTSTART:20240310T100000
END:DAYLIGHT
BEGIN:STANDARD
TZOFFSETFROM:-0700
TZOFFSETTO:-0800
TZNAME:PST
DTSTART:20241103T090000
END:STANDARD
BEGIN:DAYLIGHT
TZOFFSETFROM:-0800
TZOFFSETTO:-0700
TZNAME:PDT
DTSTART:20250309T100000
END:DAYLIGHT
BEGIN:STANDARD
TZOFFSETFROM:-0700
TZOFFSETTO:-0800
TZNAME:PST
DTSTART:20251102T090000
END:STANDARD
END:VTIMEZONE
BEGIN:VEVENT
DTSTART;TZID=America/Los_Angeles:20240613T083000
DTEND;TZID=America/Los_Angeles:20240808T140000
DTSTAMP:20260421T075951
CREATED:20240501T180835Z
LAST-MODIFIED:20240501T180835Z
UID:10005446-1718267400-1723125600@ccee-ca.org
SUMMARY:SEL and Academic Integration Summer Workshops
DESCRIPTION:
URL:https://ccee-ca.org/event/sel-and-academic-integration-summer-workshops/
END:VEVENT
BEGIN:VEVENT
DTSTART;TZID=America/Los_Angeles:20240701T100000
DTEND;TZID=America/Los_Angeles:20240701T110000
DTSTAMP:20260421T075951
CREATED:20240904T173057Z
LAST-MODIFIED:20240904T173057Z
UID:10007058-1719828000-1719831600@ccee-ca.org
SUMMARY:CEI Lead Agency Partner Check-In
DESCRIPTION:
URL:https://ccee-ca.org/event/cei-lead-agency-partner-check-in-19/
ORGANIZER;CN="CEI":MAILTO:info@californiaengage.org
END:VEVENT
BEGIN:VEVENT
DTSTART;TZID=America/Los_Angeles:20240709T090000
DTEND;TZID=America/Los_Angeles:20240712T150000
DTSTAMP:20260421T075951
CREATED:20240619T014149Z
LAST-MODIFIED:20240619T014149Z
UID:10005483-1720515600-1720796400@ccee-ca.org
SUMMARY:Youth Development Institute (YDI) Expanded Learning
DESCRIPTION:
URL:https://ccee-ca.org/event/youth-development-institute-ydi-expanded-learning/
END:VEVENT
BEGIN:VEVENT
DTSTART;TZID=America/Los_Angeles:20240710T083000
DTEND;TZID=America/Los_Angeles:20240711T153000
DTSTAMP:20260421T075951
CREATED:20240501T180835Z
LAST-MODIFIED:20240501T180835Z
UID:10005444-1720600200-1720711800@ccee-ca.org
SUMMARY:Universal Design for Learning Summer 2024 Summit
DESCRIPTION:
URL:https://ccee-ca.org/event/universal-design-for-learning-summer-2024-summit/
END:VEVENT
BEGIN:VEVENT
DTSTART;TZID=America/Los_Angeles:20240710T090000
DTEND;TZID=America/Los_Angeles:20240710T094500
DTSTAMP:20260421T075951
CREATED:20240904T173106Z
LAST-MODIFIED:20240904T173106Z
UID:10007136-1720602000-1720604700@ccee-ca.org
SUMMARY:CEI: Harvard Team Check-in
DESCRIPTION:
URL:https://ccee-ca.org/event/cei-harvard-team-check-in/
ORGANIZER;CN="CEI":MAILTO:info@californiaengage.org
END:VEVENT
BEGIN:VEVENT
DTSTART;TZID=America/Los_Angeles:20240715T090000
DTEND;TZID=America/Los_Angeles:20240718T150000
DTSTAMP:20260421T075951
CREATED:20240619T014149Z
LAST-MODIFIED:20240619T014149Z
UID:10005484-1721034000-1721314800@ccee-ca.org
SUMMARY:Youth Development Institute for ASSETs
DESCRIPTION:
URL:https://ccee-ca.org/event/youth-development-institute-for-assets/
END:VEVENT
BEGIN:VEVENT
DTSTART;TZID=America/Los_Angeles:20240715T100000
DTEND;TZID=America/Los_Angeles:20240715T110000
DTSTAMP:20260421T075951
CREATED:20240904T173055Z
LAST-MODIFIED:20240904T173055Z
UID:10007046-1721037600-1721041200@ccee-ca.org
SUMMARY:CEI Lead Agency Partner Check-In
DESCRIPTION:
URL:https://ccee-ca.org/event/cei-lead-agency-partner-check-in-9/
ORGANIZER;CN="CEI":MAILTO:info@californiaengage.org
END:VEVENT
BEGIN:VEVENT
DTSTART;TZID=America/Los_Angeles:20240716T090000
DTEND;TZID=America/Los_Angeles:20240716T110000
DTSTAMP:20260421T075951
CREATED:20240828T070353Z
LAST-MODIFIED:20240828T070353Z
UID:10006769-1721120400-1721127600@ccee-ca.org
SUMMARY:Moves for Launching A New Year of Student-Centered Coaching Virtual Book Study
DESCRIPTION:Join Us for an Interactive Virtual Book Study Plus an Opportunity to Meet the Author. Whether you are new to a school or have been there a while\, the beginning of the year brings forth the opportunity to envision how you will deepen the impact coaching makes on teacher and student learning. We invite individuals and teams of coaches\, principals and district leaders to explore strategies and imagine the possibilities within their own context.
URL:https://ccee-ca.org/event/moves-for-launching-a-new-year-of-student-centered-coaching-virtual-book-study/
END:VEVENT
BEGIN:VEVENT
DTSTART;TZID=America/Los_Angeles:20240717T040000
DTEND;TZID=America/Los_Angeles:20240717T163000
DTSTAMP:20260421T075951
CREATED:20240611T010950Z
LAST-MODIFIED:20240611T010951Z
UID:10006683-1721188800-1721233800@ccee-ca.org
SUMMARY:21CSLA UTK Leadership Certificate Information Session
DESCRIPTION:What is the 21CSLA UTK Leadership Certificate? \n\n\nEnroll in no-cost\, university credit-bearing courses \n\n\nLearn about Universal Transitional Kindergarten policy & instructional leadership in California \n\n\nNetwork and collaborate with other leaders to advance equity \n\n\nCultivate skills and knowledge to prepare for job searches and interviews \n\n\nThe UTK Leadership Certificate is a 4-unit online and synchronous program offered by UC Berkeley Extension (UNEX). Participants must either be current candidates in a CTC-approved Preliminary Administrative Services Credential or Clear Administrative Services Credential program\, or hold a Certificate of Eligibility. The certificate consists of two courses of 10 sessions each. Those who complete both courses will receive a UC Berkeley UTK Leadership Certificate. Due to funding from the California Department of Education\, this program is at no cost to eligible participants through June 2026. \nFor more details\, see our Frequently Asked Questions. \n​Register here: https://berkeley.qualtrics.com/jfe/form/SV_6VHxyjmOtJdMZTM
URL:https://ccee-ca.org/event/21csla-utk-leadership-certificate-information-session/
CATEGORIES:Informational Webinars
ATTACH;FMTTYPE=image/png:https://ccee-ca.org/wp-content/uploads/2024/06/UTK-Info-Session-1.png
END:VEVENT
BEGIN:VEVENT
DTSTART;TZID=America/Los_Angeles:20240717T142000
DTEND;TZID=America/Los_Angeles:20240717T153500
DTSTAMP:20260421T075951
CREATED:20240708T194610Z
LAST-MODIFIED:20240708T194611Z
UID:10006703-1721226000-1721230500@ccee-ca.org
SUMMARY:Empowering Learning for All: A Journey Through Year One of the UDL Implementation Learning Network
DESCRIPTION:Join our session at the MTSS Conference for a comprehensive look into how three school districts embarked on an ambitious mission to integrate UDL into their educational fabric. Discover their challenges\, strategies\, and successes as they navigated the complexities of identifying problems of practice and setting robust improvement goals. Expect an engaging\, honest\, and insightful session that can inform your efforts and connect you to others on their UDL journey.
URL:https://ccee-ca.org/event/empowering-learning-for-all-a-journey-through-year-one-of-the-udl-implementation-learning-network/
CATEGORIES:Conference Presentation
ATTACH;FMTTYPE=image/png:https://ccee-ca.org/wp-content/uploads/2024/07/Untitled-2024-07-08T124229.917.png
END:VEVENT
BEGIN:VEVENT
DTSTART;TZID=America/Los_Angeles:20240721T080000
DTEND;TZID=America/Los_Angeles:20240721T170000
DTSTAMP:20260421T075951
CREATED:20240422T224814Z
LAST-MODIFIED:20240708T174800Z
UID:10006640-1721548800-1721581200@ccee-ca.org
SUMMARY:Leadership Institute 2024-2025
DESCRIPTION:The Institute is built around three system pillars: \n\nCommunication\nLeadership\nNetworking\n\nAll built on the foundation of Building Culture and Climate. \n  \nIn Person and Virtual Meeting Dates \nJuly 21-23\, 2024 \nApril 6-8\, 2025 \nRegister HERE
URL:https://ccee-ca.org/event/leadership-institute-2024-2025/
CATEGORIES:CCEE,Live Professional Learning Sessions
ATTACH;FMTTYPE=image/png:https://ccee-ca.org/wp-content/uploads/2024/04/Leadership-Institute.png
END:VEVENT
BEGIN:VEVENT
DTSTART;TZID=America/Los_Angeles:20240722T080000
DTEND;TZID=America/Los_Angeles:20240722T170000
DTSTAMP:20260421T075951
CREATED:20240422T225127Z
LAST-MODIFIED:20240422T225127Z
UID:10006641-1721635200-1721667600@ccee-ca.org
SUMMARY:Leadership Institute 2024-2025
DESCRIPTION:The Institute is built around three system pillars: \n\nCommunication\nLeadership\nNetworking\n\nAll built on the foundation of Building Culture and Climate. \n  \nIn Person and Virtual Meeting Dates \nJuly 21-23\, 2024 \nApril 6-8\, 2025 \nRegister HERE
URL:https://ccee-ca.org/event/leadership-institute-2024-2025-2/
CATEGORIES:CCEE,Live Professional Learning Sessions
ATTACH;FMTTYPE=application/pdf:https://ccee-ca.org/wp-content/uploads/2024/04/Leadership-Institute-Flyer.pdf
END:VEVENT
BEGIN:VEVENT
DTSTART;TZID=America/Los_Angeles:20240723T080000
DTEND;TZID=America/Los_Angeles:20240723T170000
DTSTAMP:20260421T075951
CREATED:20240422T225518Z
LAST-MODIFIED:20240422T225644Z
UID:10006642-1721721600-1721754000@ccee-ca.org
SUMMARY:Leadership Institute 2024-2025
DESCRIPTION:The Institute is built around three system pillars: \n\nCommunication\nLeadership\nNetworking\n\nAll built on the foundation of Building Culture and Climate. \n  \nIn Person and Virtual Meeting Dates \nJuly 21-23\, 2024 \nApril 6-8\, 2025 \nRegister HERE
URL:https://ccee-ca.org/event/leadership-institute-2024-25/
CATEGORIES:CCEE
ATTACH;FMTTYPE=application/pdf:https://ccee-ca.org/wp-content/uploads/2024/04/Leadership-Institute-Flyer.pdf
END:VEVENT
BEGIN:VEVENT
DTSTART;TZID=America/Los_Angeles:20240725T090000
DTEND;TZID=America/Los_Angeles:20240725T110000
DTSTAMP:20260421T075951
CREATED:20230811T212654Z
LAST-MODIFIED:20230811T212655Z
UID:10005365-1721898000-1721905200@ccee-ca.org
SUMMARY:CAL-MSCS Advisory Council Meeting
DESCRIPTION:California Mathematics\, Science\, and Computer Science Partnership (CAL-MSCS) Advisory Council Meeting \nCAL-MSCS is collaboratively led by mathematics\, science and computer science leaders from the California County Superintendents’ Curricular and Improvement Support Committee (CISC)\, as well as the executive directors of the California Mathematics Project\, the California Science Project\, and the UCLA Computer Science Equity Project. A broader council of representatives from the California Department of Education\, the California State Board of Education\, California Collaborative for Educational Excellence\, and other statewide agencies and initiatives will act in an advisory capacity to CAL-MSCS\, promoting alignment and coherence with related statewide efforts (e.g.\, the Computer Science Educator Workforce Improvement Grant\, Early Math Initiative\, 21st Century School Leadership Academy) and ensuring California has a vibrant\, coordinated approach to professional learning across the content areas. \nDr. Stephanie Gregson\, Deputy Executive Director of the Teaching\, Learning\, and Leading Center at the California Collaborative for Educational Excellence (CCEE) is the representative on behalf of CCEE.
URL:https://ccee-ca.org/event/cal-mscs-advisory-council-meeting-2/
CATEGORIES:CCEE
ATTACH;FMTTYPE=image/png:https://ccee-ca.org/wp-content/uploads/2022/04/Stephanie-Gregson.png
END:VEVENT
BEGIN:VEVENT
DTSTART;TZID=America/Los_Angeles:20240729T000000
DTEND;TZID=America/Los_Angeles:20240729T000000
DTSTAMP:20260421T075951
CREATED:20240517T181632Z
LAST-MODIFIED:20240517T181632Z
UID:10005456-1722211200-1722211200@ccee-ca.org
SUMMARY:Envisioning and Leading Equitable TK Classrooms: Module 4 - Registration Deadline
DESCRIPTION:
URL:https://ccee-ca.org/event/envisioning-and-leading-equitable-tk-classrooms-module-4-registration-deadline-2/
END:VEVENT
BEGIN:VEVENT
DTSTART;TZID=America/Los_Angeles:20240729T080000
DTEND;TZID=America/Los_Angeles:20240729T151500
DTSTAMP:20260421T075951
CREATED:20240619T013345Z
LAST-MODIFIED:20240619T013345Z
UID:10005469-1722240000-1722266100@ccee-ca.org
SUMMARY:Kagan Cooperative Learning\, PreK - 2
DESCRIPTION:
URL:https://ccee-ca.org/event/kagan-cooperative-learning-prek-2/
END:VEVENT
BEGIN:VEVENT
DTSTART;TZID=America/Los_Angeles:20240730T080000
DTEND;TZID=America/Los_Angeles:20240730T151500
DTSTAMP:20260421T075951
CREATED:20240619T013346Z
LAST-MODIFIED:20240619T013346Z
UID:10005471-1722326400-1722352500@ccee-ca.org
SUMMARY:Kagan Cooperative Learning\, PreK - 2
DESCRIPTION:
URL:https://ccee-ca.org/event/kagan-cooperative-learning-prek-2-2/
END:VEVENT
END:VCALENDAR