BEGIN:VCALENDAR
VERSION:2.0
PRODID:-//CCEE - ECPv6.15.20//NONSGML v1.0//EN
CALSCALE:GREGORIAN
METHOD:PUBLISH
X-ORIGINAL-URL:https://ccee-ca.org
X-WR-CALDESC:Events for CCEE
REFRESH-INTERVAL;VALUE=DURATION:PT1H
X-Robots-Tag:noindex
X-PUBLISHED-TTL:PT1H
BEGIN:VTIMEZONE
TZID:America/Los_Angeles
BEGIN:DAYLIGHT
TZOFFSETFROM:-0800
TZOFFSETTO:-0700
TZNAME:PDT
DTSTART:20230312T100000
END:DAYLIGHT
BEGIN:STANDARD
TZOFFSETFROM:-0700
TZOFFSETTO:-0800
TZNAME:PST
DTSTART:20231105T090000
END:STANDARD
BEGIN:DAYLIGHT
TZOFFSETFROM:-0800
TZOFFSETTO:-0700
TZNAME:PDT
DTSTART:20240310T100000
END:DAYLIGHT
BEGIN:STANDARD
TZOFFSETFROM:-0700
TZOFFSETTO:-0800
TZNAME:PST
DTSTART:20241103T090000
END:STANDARD
BEGIN:DAYLIGHT
TZOFFSETFROM:-0800
TZOFFSETTO:-0700
TZNAME:PDT
DTSTART:20250309T100000
END:DAYLIGHT
BEGIN:STANDARD
TZOFFSETFROM:-0700
TZOFFSETTO:-0800
TZNAME:PST
DTSTART:20251102T090000
END:STANDARD
END:VTIMEZONE
BEGIN:VEVENT
DTSTART;TZID=America/Los_Angeles:20240613T083000
DTEND;TZID=America/Los_Angeles:20240808T140000
DTSTAMP:20260425T064144
CREATED:20240501T180835Z
LAST-MODIFIED:20240501T180835Z
UID:10005446-1718267400-1723125600@ccee-ca.org
SUMMARY:SEL and Academic Integration Summer Workshops
DESCRIPTION:
URL:https://ccee-ca.org/event/sel-and-academic-integration-summer-workshops/
END:VEVENT
BEGIN:VEVENT
DTSTART;TZID=America/Los_Angeles:20240805T083000
DTEND;TZID=America/Los_Angeles:20240805T153000
DTSTAMP:20260425T064144
CREATED:20240517T181632Z
LAST-MODIFIED:20240517T181632Z
UID:10005457-1722846600-1722871800@ccee-ca.org
SUMMARY:Envisioning and Leading Equitable TK Classrooms: Module 4
DESCRIPTION:
URL:https://ccee-ca.org/event/envisioning-and-leading-equitable-tk-classrooms-module-4-2/
END:VEVENT
BEGIN:VEVENT
DTSTART;TZID=America/Los_Angeles:20240805T083000
DTEND;TZID=America/Los_Angeles:20240805T153000
DTSTAMP:20260425T064144
CREATED:20240619T013346Z
LAST-MODIFIED:20240619T013346Z
UID:10005472-1722846600-1722871800@ccee-ca.org
SUMMARY:Leading Equity-Centered Continuous Improvement through P-3 Assessments: Module 4
DESCRIPTION:
URL:https://ccee-ca.org/event/leading-equity-centered-continuous-improvement-through-p-3-assessments-module-4-2/
END:VEVENT
BEGIN:VEVENT
DTSTART;TZID=America/Los_Angeles:20240805T090000
DTEND;TZID=America/Los_Angeles:20240805T143000
DTSTAMP:20260425T064144
CREATED:20240501T181036Z
LAST-MODIFIED:20240501T181036Z
UID:10006653-1722848400-1722868200@ccee-ca.org
SUMMARY:Foundational Literacy Skills for Multilingual-English Learners (TK-3rd)
DESCRIPTION:
URL:https://ccee-ca.org/event/foundational-literacy-skills-for-multilingual-english-learners-tk-3rd/
END:VEVENT
BEGIN:VEVENT
DTSTART;TZID=America/Los_Angeles:20240805T100000
DTEND;TZID=America/Los_Angeles:20240805T110000
DTSTAMP:20260425T064144
CREATED:20240904T173056Z
LAST-MODIFIED:20240904T173056Z
UID:10007059-1722852000-1722855600@ccee-ca.org
SUMMARY:CEI Lead Agency Partner Check-In
DESCRIPTION:
URL:https://ccee-ca.org/event/cei-lead-agency-partner-check-in-18/
ORGANIZER;CN="CEI":MAILTO:info@californiaengage.org
END:VEVENT
BEGIN:VEVENT
DTSTART;TZID=America/Los_Angeles:20240806T090000
DTEND;TZID=America/Los_Angeles:20240806T100000
DTSTAMP:20260425T064144
CREATED:20240828T065952Z
LAST-MODIFIED:20240828T065952Z
UID:10006750-1722934800-1722938400@ccee-ca.org
SUMMARY:Launching A New Year of Student-Centered Coaching
DESCRIPTION:Join Us for an Interactive Virtual Book Study Plus an Opportunity to Meet the Author
URL:https://ccee-ca.org/event/launching-a-new-year-of-student-centered-coaching/
END:VEVENT
BEGIN:VEVENT
DTSTART;TZID=America/Los_Angeles:20240806T090000
DTEND;TZID=America/Los_Angeles:20240806T110000
DTSTAMP:20260425T064144
CREATED:20240828T070353Z
LAST-MODIFIED:20240828T070353Z
UID:10006770-1722934800-1722942000@ccee-ca.org
SUMMARY:Moves for Launching A New Year of Student-Centered Coaching Virtual Book Study
DESCRIPTION:Join Us for an Interactive Virtual Book Study Plus an Opportunity to Meet the Author. Whether you are new to a school or have been there a while\, the beginning of the year brings forth the opportunity to envision how you will deepen the impact coaching makes on teacher and student learning. We invite individuals and teams of coaches\, principals and district leaders to explore strategies and imagine the possibilities within their own context.
URL:https://ccee-ca.org/event/moves-for-launching-a-new-year-of-student-centered-coaching-virtual-book-study-2/
END:VEVENT
BEGIN:VEVENT
DTSTART;TZID=America/Los_Angeles:20240806T090000
DTEND;TZID=America/Los_Angeles:20240808T143000
DTSTAMP:20260425T064144
CREATED:20240501T181036Z
LAST-MODIFIED:20240501T181036Z
UID:10006654-1722934800-1723127400@ccee-ca.org
SUMMARY:Strategies for Elementary Integrated and Designated ELD
DESCRIPTION:
URL:https://ccee-ca.org/event/strategies-for-elementary-integrated-and-designated-eld-2/
END:VEVENT
BEGIN:VEVENT
DTSTART;TZID=America/Los_Angeles:20240808T000000
DTEND;TZID=America/Los_Angeles:20240808T160000
DTSTAMP:20260425T064144
CREATED:20240904T073327Z
LAST-MODIFIED:20240904T073327Z
UID:10006970-1723075200-1723132800@ccee-ca.org
SUMMARY:CEI: Cohort V Team Lead Orientation - Option 2
DESCRIPTION:
URL:https://ccee-ca.org/event/cei-cohort-v-team-lead-orientation-option-2/
ORGANIZER;CN="CEI":MAILTO:info@californiaengage.org
END:VEVENT
BEGIN:VEVENT
DTSTART;TZID=America/Los_Angeles:20240808T090000
DTEND;TZID=America/Los_Angeles:20240808T100000
DTSTAMP:20260425T064144
CREATED:20240904T173105Z
LAST-MODIFIED:20240904T173105Z
UID:10007128-1723107600-1723111200@ccee-ca.org
SUMMARY:CEI: Cohort V Team Lead Orientation - Option 1
DESCRIPTION:
URL:https://ccee-ca.org/event/cei-cohort-v-team-lead-orientation-option-1/
ORGANIZER;CN="CEI":MAILTO:info@californiaengage.org
END:VEVENT
BEGIN:VEVENT
DTSTART;TZID=America/Los_Angeles:20240808T150000
DTEND;TZID=America/Los_Angeles:20240808T160000
DTSTAMP:20260425T064144
CREATED:20240904T173105Z
LAST-MODIFIED:20240904T173105Z
UID:10007129-1723129200-1723132800@ccee-ca.org
SUMMARY:CEI: Cohort V Team Lead Orientation - Option 2
DESCRIPTION:
URL:https://ccee-ca.org/event/cei-cohort-v-team-lead-orientation-option-2-2/
ORGANIZER;CN="CEI":MAILTO:info@californiaengage.org
END:VEVENT
END:VCALENDAR